BEGIN:VCALENDAR
VERSION:2.0
PRODID:-//The Tiny Miracles Foundation - ECPv6.15.20//NONSGML v1.0//EN
CALSCALE:GREGORIAN
METHOD:PUBLISH
X-WR-CALNAME:The Tiny Miracles Foundation
X-ORIGINAL-URL:https://ttmf.org
X-WR-CALDESC:Events for The Tiny Miracles Foundation
REFRESH-INTERVAL;VALUE=DURATION:PT1H
X-Robots-Tag:noindex
X-PUBLISHED-TTL:PT1H
BEGIN:VTIMEZONE
TZID:America/New_York
BEGIN:DAYLIGHT
TZOFFSETFROM:-0500
TZOFFSETTO:-0400
TZNAME:EDT
DTSTART:20180311T070000
END:DAYLIGHT
BEGIN:STANDARD
TZOFFSETFROM:-0400
TZOFFSETTO:-0500
TZNAME:EST
DTSTART:20181104T060000
END:STANDARD
BEGIN:DAYLIGHT
TZOFFSETFROM:-0500
TZOFFSETTO:-0400
TZNAME:EDT
DTSTART:20190310T070000
END:DAYLIGHT
BEGIN:STANDARD
TZOFFSETFROM:-0400
TZOFFSETTO:-0500
TZNAME:EST
DTSTART:20191103T060000
END:STANDARD
BEGIN:DAYLIGHT
TZOFFSETFROM:-0500
TZOFFSETTO:-0400
TZNAME:EDT
DTSTART:20200308T070000
END:DAYLIGHT
BEGIN:STANDARD
TZOFFSETFROM:-0400
TZOFFSETTO:-0500
TZNAME:EST
DTSTART:20201101T060000
END:STANDARD
END:VTIMEZONE
BEGIN:VEVENT
DTSTART;TZID=America/New_York:20190916T110000
DTEND;TZID=America/New_York:20190916T140000
DTSTAMP:20260426T001733
CREATED:20190815T154753Z
LAST-MODIFIED:20190917T150202Z
UID:10002261-1568631600-1568642400@ttmf.org
SUMMARY:Miracle Maker Day
DESCRIPTION:Miracle Maker Day \nMonday\, September 16th \n11am to 2 pm \nJoin TTMF and Westport Yarns to create hats for preemies in our local hospital NICUs. \nNew knitters/crocheters welcome to learn simple patterns as well as veteran knitters/crocheters. \nBring your supplies or purchase them at Westport Yarn that day. \nRSVP to info@ttmf.org or call 203-202-9714.
URL:https://ttmf.org/event/miracle-maker-day/
LOCATION:Westport Yarns\, 582 Post Rd E\, Westport\, CT
CATEGORIES:Event passed
ATTACH;FMTTYPE=image/jpeg:https://ttmf.org/wp-content/uploads/2019/08/Preemie-Hats.jpg
ORGANIZER;CN="Tiny Miracles Foundation":MAILTO:info@ttmf.org
GEO:41.1386388;-73.3454558
X-APPLE-STRUCTURED-LOCATION;VALUE=URI;X-ADDRESS=Westport Yarns 582 Post Rd E Westport CT;X-APPLE-RADIUS=500;X-TITLE=582 Post Rd E:geo:-73.3454558,41.1386388
END:VEVENT
END:VCALENDAR