BEGIN:VCALENDAR
VERSION:2.0
PRODID:-//The Tiny Miracles Foundation - ECPv6.15.20//NONSGML v1.0//EN
CALSCALE:GREGORIAN
METHOD:PUBLISH
X-ORIGINAL-URL:https://ttmf.org
X-WR-CALDESC:Events for The Tiny Miracles Foundation
REFRESH-INTERVAL;VALUE=DURATION:PT1H
X-Robots-Tag:noindex
X-PUBLISHED-TTL:PT1H
BEGIN:VTIMEZONE
TZID:America/New_York
BEGIN:DAYLIGHT
TZOFFSETFROM:-0500
TZOFFSETTO:-0400
TZNAME:EDT
DTSTART:20170312T070000
END:DAYLIGHT
BEGIN:STANDARD
TZOFFSETFROM:-0400
TZOFFSETTO:-0500
TZNAME:EST
DTSTART:20171105T060000
END:STANDARD
BEGIN:DAYLIGHT
TZOFFSETFROM:-0500
TZOFFSETTO:-0400
TZNAME:EDT
DTSTART:20180311T070000
END:DAYLIGHT
BEGIN:STANDARD
TZOFFSETFROM:-0400
TZOFFSETTO:-0500
TZNAME:EST
DTSTART:20181104T060000
END:STANDARD
BEGIN:DAYLIGHT
TZOFFSETFROM:-0500
TZOFFSETTO:-0400
TZNAME:EDT
DTSTART:20190310T070000
END:DAYLIGHT
BEGIN:STANDARD
TZOFFSETFROM:-0400
TZOFFSETTO:-0500
TZNAME:EST
DTSTART:20191103T060000
END:STANDARD
BEGIN:DAYLIGHT
TZOFFSETFROM:-0500
TZOFFSETTO:-0400
TZNAME:EDT
DTSTART:20200308T070000
END:DAYLIGHT
BEGIN:STANDARD
TZOFFSETFROM:-0400
TZOFFSETTO:-0500
TZNAME:EST
DTSTART:20201101T060000
END:STANDARD
BEGIN:DAYLIGHT
TZOFFSETFROM:-0500
TZOFFSETTO:-0400
TZNAME:EDT
DTSTART:20210314T070000
END:DAYLIGHT
BEGIN:STANDARD
TZOFFSETFROM:-0400
TZOFFSETTO:-0500
TZNAME:EST
DTSTART:20211107T060000
END:STANDARD
END:VTIMEZONE
BEGIN:VEVENT
DTSTART;TZID=America/New_York:20200311T180000
DTEND;TZID=America/New_York:20200311T180000
DTSTAMP:20260426T001747
CREATED:20200210T175229Z
LAST-MODIFIED:20200226T152506Z
UID:10002286-1583949600-1583949600@ttmf.org
SUMMARY:Preemie Dad's Meet Up
DESCRIPTION:Preemie Dad’s Meet Up \nJoin other dads of preemies for a casual evening out. \n \nWednesday\, March 11 \nO’Neill’s Irish Pub & Restaurant \n6:00 to 8:00 PM \n$25 will include 2 drinks and a selection of appetizers. Payment to be made that evening. \nPlease RSVP below.
URL:https://ttmf.org/event/preemie-dads-meet-up-2020/
LOCATION:O’Neill’s Pub & Restaurant\, 93 N. Main St.\, Norwalk\, CT\, 06854
CATEGORIES:Upcoming Event
ATTACH;FMTTYPE=image/jpeg:https://ttmf.org/wp-content/uploads/2018/03/Dads-Dinner-e1581357528529.jpg
ORGANIZER;CN="Tiny Miracles Foundation":MAILTO:info@ttmf.org
GEO:41.101775;-73.4196325
X-APPLE-STRUCTURED-LOCATION;VALUE=URI;X-ADDRESS=O’Neill’s Pub & Restaurant 93 N. Main St. Norwalk CT 06854;X-APPLE-RADIUS=500;X-TITLE=93 N. Main St.:geo:-73.4196325,41.101775
END:VEVENT
BEGIN:VEVENT
DTSTART;TZID=America/New_York:20180329T180000
DTEND;TZID=America/New_York:20180329T210000
DTSTAMP:20260426T001747
CREATED:20180322T144710Z
LAST-MODIFIED:20190502T160343Z
UID:10002203-1522346400-1522357200@ttmf.org
SUMMARY:Preemie Dads Meet Up
DESCRIPTION:Join Tiny Miracles preemie Dads for appetizers and drinks (2 included) at O’Neill’s Pub & Restaurant in Norwalk. \n6 – 9 PM \n$25 payable that evening. \nRSVP to TinyMiraclesDads@gmail.com to attend.
URL:https://ttmf.org/event/preemie-dads-meet-up/
LOCATION:O’Neill’s Pub & Restaurant\, 93 N. Main St.\, Norwalk\, CT\, 06854
CATEGORIES:Event passed
ATTACH;FMTTYPE=image/jpeg:https://ttmf.org/wp-content/uploads/2018/03/Dads-Dinner-e1581357528529.jpg
ORGANIZER;CN="Tiny Miracles Foundation":MAILTO:info@ttmf.org
GEO:41.101775;-73.4196325
X-APPLE-STRUCTURED-LOCATION;VALUE=URI;X-ADDRESS=O’Neill’s Pub & Restaurant 93 N. Main St. Norwalk CT 06854;X-APPLE-RADIUS=500;X-TITLE=93 N. Main St.:geo:-73.4196325,41.101775
END:VEVENT
END:VCALENDAR