BEGIN:VCALENDAR
VERSION:2.0
PRODID:-//The Tiny Miracles Foundation - ECPv6.15.20//NONSGML v1.0//EN
CALSCALE:GREGORIAN
METHOD:PUBLISH
X-WR-CALNAME:The Tiny Miracles Foundation
X-ORIGINAL-URL:https://ttmf.org
X-WR-CALDESC:Events for The Tiny Miracles Foundation
REFRESH-INTERVAL;VALUE=DURATION:PT1H
X-Robots-Tag:noindex
X-PUBLISHED-TTL:PT1H
BEGIN:VTIMEZONE
TZID:America/New_York
BEGIN:DAYLIGHT
TZOFFSETFROM:-0500
TZOFFSETTO:-0400
TZNAME:EDT
DTSTART:20220313T070000
END:DAYLIGHT
BEGIN:STANDARD
TZOFFSETFROM:-0400
TZOFFSETTO:-0500
TZNAME:EST
DTSTART:20221106T060000
END:STANDARD
BEGIN:DAYLIGHT
TZOFFSETFROM:-0500
TZOFFSETTO:-0400
TZNAME:EDT
DTSTART:20230312T070000
END:DAYLIGHT
BEGIN:STANDARD
TZOFFSETFROM:-0400
TZOFFSETTO:-0500
TZNAME:EST
DTSTART:20231105T060000
END:STANDARD
BEGIN:DAYLIGHT
TZOFFSETFROM:-0500
TZOFFSETTO:-0400
TZNAME:EDT
DTSTART:20240310T070000
END:DAYLIGHT
BEGIN:STANDARD
TZOFFSETFROM:-0400
TZOFFSETTO:-0500
TZNAME:EST
DTSTART:20241103T060000
END:STANDARD
END:VTIMEZONE
BEGIN:VEVENT
DTSTART;TZID=America/New_York:20230322T100000
DTEND;TZID=America/New_York:20230322T113000
DTSTAMP:20260425T211237
CREATED:20230131T182531Z
LAST-MODIFIED:20230131T182644Z
UID:10002531-1679479200-1679484600@ttmf.org
SUMMARY:Miracle Mornings - Walk\, Roll or Stroll
DESCRIPTION:Walk\, Roll or Stroll with Tiny Miracles \n \nWhatever your baby’s age\, come out and move with us. \n10:00 to 11:30 AM \nNortheast Athletic Center (formerly Sono Fieldhouse) \n365 Martin Luther King Drive in Norwalk \nHosted by parent mentor\, Kelly Cohen
URL:https://ttmf.org/event/miracle-mornings-2023-03-22/
LOCATION:Northeast Athletic Center\, 365 Martin Luther King Drive\, Norwalk\, CT\, 06854
CATEGORIES:Upcoming Event
ATTACH;FMTTYPE=image/png:https://ttmf.org/wp-content/uploads/2023/01/Miracle-Mornings-1.png
ORGANIZER;CN="Tiny Miracles Foundation":MAILTO:info@ttmf.org
GEO:41.0790528;-73.4278737
X-APPLE-STRUCTURED-LOCATION;VALUE=URI;X-ADDRESS=Northeast Athletic Center 365 Martin Luther King Drive Norwalk CT 06854;X-APPLE-RADIUS=500;X-TITLE=365 Martin Luther King Drive:geo:-73.4278737,41.0790528
END:VEVENT
BEGIN:VEVENT
DTSTART;TZID=America/New_York:20230308T100000
DTEND;TZID=America/New_York:20230308T113000
DTSTAMP:20260425T211237
CREATED:20230131T182413Z
LAST-MODIFIED:20230131T182518Z
UID:10002530-1678269600-1678275000@ttmf.org
SUMMARY:Miracle Mornings - Walk\, Roll or Stroll
DESCRIPTION:Walk\, Roll or Stroll with Tiny Miracles \n \nWhatever your baby’s age\, come out and move with us. \n10:00 to 11:30 AM \nNortheast Athletic Center (formerly Sono Fieldhouse) \n365 Martin Luther King Drive in Norwalk \nHosted by parent mentor\, Erin Eblen
URL:https://ttmf.org/event/miracle-mornings-2023-03-08/
LOCATION:Northeast Athletic Center\, 365 Martin Luther King Drive\, Norwalk\, CT\, 06854
CATEGORIES:Upcoming Event
ATTACH;FMTTYPE=image/png:https://ttmf.org/wp-content/uploads/2023/01/Miracle-Mornings-1.png
ORGANIZER;CN="Tiny Miracles Foundation":MAILTO:info@ttmf.org
GEO:41.0790528;-73.4278737
X-APPLE-STRUCTURED-LOCATION;VALUE=URI;X-ADDRESS=Northeast Athletic Center 365 Martin Luther King Drive Norwalk CT 06854;X-APPLE-RADIUS=500;X-TITLE=365 Martin Luther King Drive:geo:-73.4278737,41.0790528
END:VEVENT
BEGIN:VEVENT
DTSTART;TZID=America/New_York:20230222T100000
DTEND;TZID=America/New_York:20230222T113000
DTSTAMP:20260425T211237
CREATED:20230131T182207Z
LAST-MODIFIED:20230131T182403Z
UID:10002529-1677060000-1677065400@ttmf.org
SUMMARY:Miracle Mornings - Walk\, Roll or Stroll
DESCRIPTION:Walk\, Roll or Stroll with Tiny Miracles \n \nWhatever your baby’s age\, come out and move with us. \n10:00 to 11:30 AM \nNortheast Athletic Center (formerly Sono Fieldhouse) \n365 Martin Luther King Drive in Norwalk \nHosted by parent mentor\, Ashley Heliotis
URL:https://ttmf.org/event/miracle-mornings-2023-02-22/
LOCATION:Northeast Athletic Center\, 365 Martin Luther King Drive\, Norwalk\, CT\, 06854
CATEGORIES:Upcoming Event
ATTACH;FMTTYPE=image/png:https://ttmf.org/wp-content/uploads/2023/01/Miracle-Mornings-1.png
ORGANIZER;CN="Tiny Miracles Foundation":MAILTO:info@ttmf.org
GEO:41.0790528;-73.4278737
X-APPLE-STRUCTURED-LOCATION;VALUE=URI;X-ADDRESS=Northeast Athletic Center 365 Martin Luther King Drive Norwalk CT 06854;X-APPLE-RADIUS=500;X-TITLE=365 Martin Luther King Drive:geo:-73.4278737,41.0790528
END:VEVENT
BEGIN:VEVENT
DTSTART;TZID=America/New_York:20230208T100000
DTEND;TZID=America/New_York:20230208T113000
DTSTAMP:20260425T211237
CREATED:20230131T180807Z
LAST-MODIFIED:20230131T182106Z
UID:10002528-1675850400-1675855800@ttmf.org
SUMMARY:Miracle Mornings - Walk\, Roll or Stroll
DESCRIPTION:Walk\, Roll or Stroll with Tiny Miracles \n \nWhatever your baby’s age\, come out and move with us. \n10:00 to 11:30 AM \nNortheast Athletic Center (formerly Sono Fieldhouse) \n365 Martin Luther King Drive in Norwalk \nHosted by parent mentor\, Kelly Cohen
URL:https://ttmf.org/event/miracle-mornings-2023-02-08/
LOCATION:Northeast Athletic Center\, 365 Martin Luther King Drive\, Norwalk\, CT\, 06854
CATEGORIES:Upcoming Event
ATTACH;FMTTYPE=image/png:https://ttmf.org/wp-content/uploads/2023/01/Miracle-Mornings-1.png
ORGANIZER;CN="Tiny Miracles Foundation":MAILTO:info@ttmf.org
GEO:41.0790528;-73.4278737
X-APPLE-STRUCTURED-LOCATION;VALUE=URI;X-ADDRESS=Northeast Athletic Center 365 Martin Luther King Drive Norwalk CT 06854;X-APPLE-RADIUS=500;X-TITLE=365 Martin Luther King Drive:geo:-73.4278737,41.0790528
END:VEVENT
BEGIN:VEVENT
DTSTART;TZID=America/New_York:20230125T100000
DTEND;TZID=America/New_York:20230125T113000
DTSTAMP:20260425T211237
CREATED:20230103T170532Z
LAST-MODIFIED:20230105T144421Z
UID:10002519-1674640800-1674646200@ttmf.org
SUMMARY:Miracle Mornings - Walk\, Roll or Stroll
DESCRIPTION:Walk\, Roll or Stroll with Tiny Miracles \n \nWhatever your baby’s age\, come out and move with us. \n10:00 to 11:30 AM \nNortheast Athletic Center (formerly Sono Fieldhouse) \n365 Martin Luther King Drive in Norwalk \nHosted by parent mentor\, Leelee Klein
URL:https://ttmf.org/event/miracle-mornings-2023-01-25/
LOCATION:Northeast Athletic Center\, 365 Martin Luther King Drive\, Norwalk\, CT\, 06854
CATEGORIES:Upcoming Event
ATTACH;FMTTYPE=image/png:https://ttmf.org/wp-content/uploads/2023/01/Miracle-Mornings-1.png
ORGANIZER;CN="Tiny Miracles Foundation":MAILTO:info@ttmf.org
GEO:41.0790528;-73.4278737
X-APPLE-STRUCTURED-LOCATION;VALUE=URI;X-ADDRESS=Northeast Athletic Center 365 Martin Luther King Drive Norwalk CT 06854;X-APPLE-RADIUS=500;X-TITLE=365 Martin Luther King Drive:geo:-73.4278737,41.0790528
END:VEVENT
BEGIN:VEVENT
DTSTART;TZID=America/New_York:20230111T100000
DTEND;TZID=America/New_York:20230111T113000
DTSTAMP:20260425T211237
CREATED:20230103T170514Z
LAST-MODIFIED:20230105T144509Z
UID:10002518-1673431200-1673436600@ttmf.org
SUMMARY:Miracle Mornings - Walk\, Roll or Stroll
DESCRIPTION:Walk\, Roll or Stroll with Tiny Miracles \n \nWhatever your baby’s age\, come out and move with us. \n10:00 to 11:30 AM \nNortheast Athletic Center (formerly Sono Fieldhouse) \n365 Martin Luther King Drive in Norwalk \nHosted by parent mentor\, Leelee Klein
URL:https://ttmf.org/event/miracle-mornings-2023-01-11/
LOCATION:Northeast Athletic Center\, 365 Martin Luther King Drive\, Norwalk\, CT\, 06854
CATEGORIES:Upcoming Event
ATTACH;FMTTYPE=image/png:https://ttmf.org/wp-content/uploads/2023/01/Miracle-Mornings-1.png
ORGANIZER;CN="Tiny Miracles Foundation":MAILTO:info@ttmf.org
GEO:41.0790528;-73.4278737
X-APPLE-STRUCTURED-LOCATION;VALUE=URI;X-ADDRESS=Northeast Athletic Center 365 Martin Luther King Drive Norwalk CT 06854;X-APPLE-RADIUS=500;X-TITLE=365 Martin Luther King Drive:geo:-73.4278737,41.0790528
END:VEVENT
END:VCALENDAR