BEGIN:VCALENDAR
VERSION:2.0
PRODID:-//The Tiny Miracles Foundation - ECPv6.15.20//NONSGML v1.0//EN
CALSCALE:GREGORIAN
METHOD:PUBLISH
X-ORIGINAL-URL:https://ttmf.org
X-WR-CALDESC:Events for The Tiny Miracles Foundation
REFRESH-INTERVAL;VALUE=DURATION:PT1H
X-Robots-Tag:noindex
X-PUBLISHED-TTL:PT1H
BEGIN:VTIMEZONE
TZID:America/New_York
BEGIN:DAYLIGHT
TZOFFSETFROM:-0500
TZOFFSETTO:-0400
TZNAME:EDT
DTSTART:20200308T070000
END:DAYLIGHT
BEGIN:STANDARD
TZOFFSETFROM:-0400
TZOFFSETTO:-0500
TZNAME:EST
DTSTART:20201101T060000
END:STANDARD
BEGIN:DAYLIGHT
TZOFFSETFROM:-0500
TZOFFSETTO:-0400
TZNAME:EDT
DTSTART:20210314T070000
END:DAYLIGHT
BEGIN:STANDARD
TZOFFSETFROM:-0400
TZOFFSETTO:-0500
TZNAME:EST
DTSTART:20211107T060000
END:STANDARD
BEGIN:DAYLIGHT
TZOFFSETFROM:-0500
TZOFFSETTO:-0400
TZNAME:EDT
DTSTART:20220313T070000
END:DAYLIGHT
BEGIN:STANDARD
TZOFFSETFROM:-0400
TZOFFSETTO:-0500
TZNAME:EST
DTSTART:20221106T060000
END:STANDARD
END:VTIMEZONE
BEGIN:VEVENT
DTSTART;TZID=America/New_York:20211217T100000
DTEND;TZID=America/New_York:20211217T113000
DTSTAMP:20260426T002305
CREATED:20211116T153345Z
LAST-MODIFIED:20211116T153652Z
UID:10002314-1639735200-1639740600@ttmf.org
SUMMARY:Playtime with Preemies - Newtown
DESCRIPTION:PLAYTIME WITH PREEMIES \n \nSPECIAL GUEST: \nGIGGLING PIG ART STUDIO \n \nJoin a parent support mentor and other parents of preemies for a morning of preemie fun and parent socialization.   \nSiblings welcome. \nSnacks and water will be provided. You are encouraged to bring a blanket and your own toys. \nPlaygroup Time: 10:00 to 11:30 am \nPlace: Newtown Community Center\, 8 Simpson St\, Newtown
URL:https://ttmf.org/event/playtime-with-preemies-2021-12-17/
LOCATION:Newtown Community Center\, 8 Simpson St\, Newtown\, CT
CATEGORIES:Upcoming Event
ATTACH;FMTTYPE=image/png:https://ttmf.org/wp-content/uploads/2021/04/Newtown.png
ORGANIZER;CN="Tiny Miracles Foundation":MAILTO:info@ttmf.org
GEO:41.3997787;-73.2855061
X-APPLE-STRUCTURED-LOCATION;VALUE=URI;X-ADDRESS=Newtown Community Center 8 Simpson St Newtown CT;X-APPLE-RADIUS=500;X-TITLE=8 Simpson St:geo:-73.2855061,41.3997787
END:VEVENT
BEGIN:VEVENT
DTSTART;TZID=America/New_York:20211203T100000
DTEND;TZID=America/New_York:20211203T113000
DTSTAMP:20260426T002305
CREATED:20211116T151916Z
LAST-MODIFIED:20211116T153009Z
UID:10002313-1638525600-1638531000@ttmf.org
SUMMARY:Playtime with Preemies - Newtown
DESCRIPTION:PLAYTIME WITH PREEMIES \n \nJoin a parent support mentor and other parents of preemies for a morning of preemie fun and parent socialization.   \nSiblings welcome. \nSnacks and water will be provided. You are encouraged to bring a blanket and your own toys. \nPlaygroup Time: 10:00 to 11:30 am \nPlace: Newtown Community Center\, 8 Simpson St\, Newtown
URL:https://ttmf.org/event/playtime-with-preemies-2021-12-03/
LOCATION:Newtown Community Center\, 8 Simpson St\, Newtown\, CT
CATEGORIES:Upcoming Event
ATTACH;FMTTYPE=image/png:https://ttmf.org/wp-content/uploads/2021/04/Newtown.png
ORGANIZER;CN="Tiny Miracles Foundation":MAILTO:info@ttmf.org
GEO:41.3997787;-73.2855061
X-APPLE-STRUCTURED-LOCATION;VALUE=URI;X-ADDRESS=Newtown Community Center 8 Simpson St Newtown CT;X-APPLE-RADIUS=500;X-TITLE=8 Simpson St:geo:-73.2855061,41.3997787
END:VEVENT
BEGIN:VEVENT
DTSTART;TZID=America/New_York:20211119T100000
DTEND;TZID=America/New_York:20211119T113000
DTSTAMP:20260426T002305
CREATED:20210922T153212Z
LAST-MODIFIED:20210922T153333Z
UID:10002469-1637316000-1637321400@ttmf.org
SUMMARY:Playtime with Preemies - Newtown
DESCRIPTION:PLAYTIME WITH PREEMIES \n \nJoin a parent support mentor and other parents of preemies for a morning of preemie fun and parent socialization.   \nSiblings welcome. \nSnacks and water will be provided. You are encouraged to bring a blanket and your own toys. \nPlaygroup Time: 10:00 to 11:30 am \nPlace: Newtown Community Center\, 8 Simpson St\, Newtown
URL:https://ttmf.org/event/playtime-with-preemies-2021-11-19/
LOCATION:Newtown Community Center\, 8 Simpson St\, Newtown\, CT
CATEGORIES:Upcoming Event
ATTACH;FMTTYPE=image/png:https://ttmf.org/wp-content/uploads/2021/04/Newtown.png
ORGANIZER;CN="Tiny Miracles Foundation":MAILTO:info@ttmf.org
GEO:41.3997787;-73.2855061
X-APPLE-STRUCTURED-LOCATION;VALUE=URI;X-ADDRESS=Newtown Community Center 8 Simpson St Newtown CT;X-APPLE-RADIUS=500;X-TITLE=8 Simpson St:geo:-73.2855061,41.3997787
END:VEVENT
BEGIN:VEVENT
DTSTART;TZID=America/New_York:20211105T100000
DTEND;TZID=America/New_York:20211105T113000
DTSTAMP:20260426T002305
CREATED:20210922T145204Z
LAST-MODIFIED:20210922T153142Z
UID:10002468-1636106400-1636111800@ttmf.org
SUMMARY:Playtime with Preemies - Newtown
DESCRIPTION:PLAYTIME WITH PREEMIES \n \n  \nSPECIAL GUEST MUSIC TOGETHER \nJoin a parent support mentor and other parents of preemies for a morning of preemie fun and parent socialization.   \nSiblings welcome. \nSnacks and water will be provided. You are encouraged to bring a blanket and your own toys. \nPlaygroup Time: 10:00 to 11:30 am \nPlace: Newtown Community Center\, 8 Simpson St\, Newtown
URL:https://ttmf.org/event/playtime-with-preemies-2021-11-05/
LOCATION:Newtown Community Center\, 8 Simpson St\, Newtown\, CT
CATEGORIES:Upcoming Event
ATTACH;FMTTYPE=image/png:https://ttmf.org/wp-content/uploads/2021/04/Newtown-Music-Together.png
ORGANIZER;CN="Tiny Miracles Foundation":MAILTO:info@ttmf.org
GEO:41.3997787;-73.2855061
X-APPLE-STRUCTURED-LOCATION;VALUE=URI;X-ADDRESS=Newtown Community Center 8 Simpson St Newtown CT;X-APPLE-RADIUS=500;X-TITLE=8 Simpson St:geo:-73.2855061,41.3997787
END:VEVENT
BEGIN:VEVENT
DTSTART;TZID=America/New_York:20211022T100000
DTEND;TZID=America/New_York:20211022T113000
DTSTAMP:20260426T002305
CREATED:20210913T190159Z
LAST-MODIFIED:20210913T190257Z
UID:10002300-1634896800-1634902200@ttmf.org
SUMMARY:Playtime with Preemies - Newtown
DESCRIPTION:PLAYTIME WITH PREEMIES \n \n“TAKE A BREATH” with YOGA NIDRA \nJoin a parent support mentor and other parents of preemies for a morning of preemie fun and parent socialization.   \nSiblings welcome. \nSnacks and water will be provided. You are encouraged to bring a blanket and your own toys. \nPlaygroup Time: 10:00 to 11:30 am \nPlace: Newtown Community Center\, 8 Simpson St\, Newtown
URL:https://ttmf.org/event/playtime-with-preemies-2021-10-22/
LOCATION:Newtown Community Center\, 8 Simpson St\, Newtown\, CT
CATEGORIES:Upcoming Event
ATTACH;FMTTYPE=image/png:https://ttmf.org/wp-content/uploads/2021/04/Newtown.png
ORGANIZER;CN="Tiny Miracles Foundation":MAILTO:info@ttmf.org
GEO:41.3997787;-73.2855061
X-APPLE-STRUCTURED-LOCATION;VALUE=URI;X-ADDRESS=Newtown Community Center 8 Simpson St Newtown CT;X-APPLE-RADIUS=500;X-TITLE=8 Simpson St:geo:-73.2855061,41.3997787
END:VEVENT
BEGIN:VEVENT
DTSTART;TZID=America/New_York:20211008T100000
DTEND;TZID=America/New_York:20211008T113000
DTSTAMP:20260426T002305
CREATED:20210913T185947Z
LAST-MODIFIED:20210913T190123Z
UID:10002299-1633687200-1633692600@ttmf.org
SUMMARY:Playtime with Preemies - Newtown - with Yoga Nidra
DESCRIPTION:PLAYTIME WITH PREEMIES \n \n“TAKE A BREATH” with YOGA NIDRA \nJoin a parent support mentor and other parents of preemies for a morning of preemie fun and parent socialization.   \nSiblings welcome. \nSnacks and water will be provided. You are encouraged to bring a blanket and your own toys. \nPlaygroup Time: 10:00 to 11:30 am \nPlace: Newtown Community Center\, 8 Simpson St\, Newtown
URL:https://ttmf.org/event/playtime-with-preemies-2021-10-08/
LOCATION:Newtown Community Center\, 8 Simpson St\, Newtown\, CT
CATEGORIES:Upcoming Event
ATTACH;FMTTYPE=image/png:https://ttmf.org/wp-content/uploads/2021/04/Newtown.png
ORGANIZER;CN="Tiny Miracles Foundation":MAILTO:info@ttmf.org
GEO:41.3997787;-73.2855061
X-APPLE-STRUCTURED-LOCATION;VALUE=URI;X-ADDRESS=Newtown Community Center 8 Simpson St Newtown CT;X-APPLE-RADIUS=500;X-TITLE=8 Simpson St:geo:-73.2855061,41.3997787
END:VEVENT
BEGIN:VEVENT
DTSTART;TZID=America/New_York:20210924T100000
DTEND;TZID=America/New_York:20210924T113000
DTSTAMP:20260426T002305
CREATED:20210817T135348Z
LAST-MODIFIED:20210913T184553Z
UID:10002456-1632477600-1632483000@ttmf.org
SUMMARY:Playtime with Preemies - Newtown - PT Guest
DESCRIPTION:PLAYTIME WITH PREEMIES \n \nPURPOSEFUL PLAY WITH A PEDIATRIC PHYSICAL THERAPIST \nJoin a parent support mentor and other parents of preemies for a morning of preemie fun and parent socialization.   \nSiblings welcome. \nSnacks and water will be provided. You are encouraged to bring a blanket and your own toys. \nPlaygroup Time: 10:00 to 11:30 am \nPlace: Newtown Community Center\, 8 Simpson St\, Newtown
URL:https://ttmf.org/event/playtime-with-preemies-2021-09-24/
LOCATION:Newtown Community Center\, 8 Simpson St\, Newtown\, CT
CATEGORIES:Upcoming Event
ATTACH;FMTTYPE=image/png:https://ttmf.org/wp-content/uploads/2021/04/Newtown.png
ORGANIZER;CN="Tiny Miracles Foundation":MAILTO:info@ttmf.org
GEO:41.3997787;-73.2855061
X-APPLE-STRUCTURED-LOCATION;VALUE=URI;X-ADDRESS=Newtown Community Center 8 Simpson St Newtown CT;X-APPLE-RADIUS=500;X-TITLE=8 Simpson St:geo:-73.2855061,41.3997787
END:VEVENT
BEGIN:VEVENT
DTSTART;TZID=America/New_York:20210910T100000
DTEND;TZID=America/New_York:20210910T113000
DTSTAMP:20260426T002305
CREATED:20210803T181920Z
LAST-MODIFIED:20210817T135541Z
UID:10002449-1631268000-1631273400@ttmf.org
SUMMARY:Playtime with Preemies - Newtown
DESCRIPTION:PLAYTIME WITH PREEMIES \n \nJoin a parent support mentor and other parents of preemies for a morning of preemie fun and parent socialization.   \nSiblings welcome. \nSnacks and water will be provided. You are encouraged to bring a blanket and your own toys. \nPlaygroup Time: 10:00 to 11:30 am \nPlace: Newtown Community Center\, 8 Simpson St\, Newtown
URL:https://ttmf.org/event/playtime-with-preemies-2021-09-10/
LOCATION:Newtown Community Center\, 8 Simpson St\, Newtown\, CT
CATEGORIES:Upcoming Event
ATTACH;FMTTYPE=image/png:https://ttmf.org/wp-content/uploads/2021/04/Newtown.png
ORGANIZER;CN="Tiny Miracles Foundation":MAILTO:info@ttmf.org
GEO:41.3997787;-73.2855061
X-APPLE-STRUCTURED-LOCATION;VALUE=URI;X-ADDRESS=Newtown Community Center 8 Simpson St Newtown CT;X-APPLE-RADIUS=500;X-TITLE=8 Simpson St:geo:-73.2855061,41.3997787
END:VEVENT
BEGIN:VEVENT
DTSTART;TZID=America/New_York:20210820T100000
DTEND;TZID=America/New_York:20210820T113000
DTSTAMP:20260426T002305
CREATED:20210624T145753Z
LAST-MODIFIED:20210624T145928Z
UID:10002293-1629453600-1629459000@ttmf.org
SUMMARY:Playtime with Preemies - Newtown
DESCRIPTION:PLAYTIME WITH PREEMIES \n \nJoin a parent support mentor and other parents of preemies for a morning of preemie fun and parent socialization.   \nThis After the NICU playgroup is most appropriate for newborn to age 3 preemies.  Siblings welcome. \nSnacks and water will be provided. You are encouraged to bring a blanket and your own toys. \nPlaygroup Time: 10:00 to 11:30 am \nPlace: Newtown Community Center\, 8 Simpson St\, Newtown
URL:https://ttmf.org/event/playtime-with-preemies-2021-08-20/
LOCATION:Newtown Community Center\, 8 Simpson St\, Newtown\, CT
CATEGORIES:Upcoming Event
ATTACH;FMTTYPE=image/png:https://ttmf.org/wp-content/uploads/2021/04/Newtown.png
ORGANIZER;CN="Tiny Miracles Foundation":MAILTO:info@ttmf.org
GEO:41.3997787;-73.2855061
X-APPLE-STRUCTURED-LOCATION;VALUE=URI;X-ADDRESS=Newtown Community Center 8 Simpson St Newtown CT;X-APPLE-RADIUS=500;X-TITLE=8 Simpson St:geo:-73.2855061,41.3997787
END:VEVENT
BEGIN:VEVENT
DTSTART;TZID=America/New_York:20210716T100000
DTEND;TZID=America/New_York:20210716T113000
DTSTAMP:20260426T002305
CREATED:20210602T173155Z
LAST-MODIFIED:20210602T173329Z
UID:10002439-1626429600-1626435000@ttmf.org
SUMMARY:Playtime with Preemies - Newtown
DESCRIPTION:PLAYTIME WITH PREEMIES \n \nJoin a parent support mentor and other parents of preemies for a morning of preemie fun and parent socialization.   \nThis After the NICU playgroup is most appropriate for newborn to age 3 preemies.  Siblings welcome. \nSnacks and water will be provided. You are encouraged to bring a blanket and your own toys. \nPlaygroup Time: 10:00 to 11:30 am \nPlace: Newtown Community Center\, 8 Simpson St\, Newtown
URL:https://ttmf.org/event/playtime-with-preemies-2021-07-16/
LOCATION:Newtown Community Center\, 8 Simpson St\, Newtown\, CT
CATEGORIES:Upcoming Event
ATTACH;FMTTYPE=image/png:https://ttmf.org/wp-content/uploads/2021/04/Newtown.png
ORGANIZER;CN="Tiny Miracles Foundation":MAILTO:info@ttmf.org
GEO:41.3997787;-73.2855061
X-APPLE-STRUCTURED-LOCATION;VALUE=URI;X-ADDRESS=Newtown Community Center 8 Simpson St Newtown CT;X-APPLE-RADIUS=500;X-TITLE=8 Simpson St:geo:-73.2855061,41.3997787
END:VEVENT
END:VCALENDAR