BEGIN:VCALENDAR
VERSION:2.0
PRODID:-//The Tiny Miracles Foundation - ECPv6.15.20//NONSGML v1.0//EN
CALSCALE:GREGORIAN
METHOD:PUBLISH
X-WR-CALNAME:The Tiny Miracles Foundation
X-ORIGINAL-URL:https://ttmf.org
X-WR-CALDESC:Events for The Tiny Miracles Foundation
REFRESH-INTERVAL;VALUE=DURATION:PT1H
X-Robots-Tag:noindex
X-PUBLISHED-TTL:PT1H
BEGIN:VTIMEZONE
TZID:America/New_York
BEGIN:DAYLIGHT
TZOFFSETFROM:-0500
TZOFFSETTO:-0400
TZNAME:EDT
DTSTART:20190310T070000
END:DAYLIGHT
BEGIN:STANDARD
TZOFFSETFROM:-0400
TZOFFSETTO:-0500
TZNAME:EST
DTSTART:20191103T060000
END:STANDARD
BEGIN:DAYLIGHT
TZOFFSETFROM:-0500
TZOFFSETTO:-0400
TZNAME:EDT
DTSTART:20200308T070000
END:DAYLIGHT
BEGIN:STANDARD
TZOFFSETFROM:-0400
TZOFFSETTO:-0500
TZNAME:EST
DTSTART:20201101T060000
END:STANDARD
BEGIN:DAYLIGHT
TZOFFSETFROM:-0500
TZOFFSETTO:-0400
TZNAME:EDT
DTSTART:20210314T070000
END:DAYLIGHT
BEGIN:STANDARD
TZOFFSETFROM:-0400
TZOFFSETTO:-0500
TZNAME:EST
DTSTART:20211107T060000
END:STANDARD
END:VTIMEZONE
BEGIN:VEVENT
DTSTART;TZID=America/New_York:20201020T100000
DTEND;TZID=America/New_York:20201020T113000
DTSTAMP:20260425T231705
CREATED:20200827T144402Z
LAST-MODIFIED:20201014T171426Z
UID:10002353-1603188000-1603193400@ttmf.org
SUMMARY:Playtime with Preemies - Darien - Music Together
DESCRIPTION:PLAYTIME WITH PREEMIES \nSPECIAL GUEST: MUSIC TOGETHER OF FAIRFIELD COUNTY \nJoin a parent support mentor and other parents of preemies for a morning of preemie fun and parent socialization outdoors.  Social distancing guidelines will be followed in a park setting weather permitting.  Check this page for weather related cancellations. \nThis After the NICU playgroup is most appropriate for newborn to age 3 preemies.  Siblings welcome. \nSnacks and water will be provided. You are encouraged to bring a blanket and your own toys. \nUpcoming Dates: \nOctober 27 – Fairfield – with Music Together \nPlaygroup Time: 10:00 to 11:30 am \nMusic Together Session: 10:30 to 11:15 am \n* To get the most out of the programming\, please plan to attend all 4 Music Together sessions (in Darien & Fairfield). \nPlace: McGuane Field\, Darien\, CT (corner of West & Norton Ave)
URL:https://ttmf.org/event/playtime-with-preemies-2020-10-20/
LOCATION:McGuane Field Park\, Noroton Ave\, Darien\, CT\, 06820
CATEGORIES:Upcoming Event
ATTACH;FMTTYPE=image/jpeg:https://ttmf.org/wp-content/uploads/2020/07/black-toddler-playing-e1593723413613.jpg
ORGANIZER;CN="Tiny Miracles Foundation":MAILTO:info@ttmf.org
GEO:41.0716427;-73.4912137
X-APPLE-STRUCTURED-LOCATION;VALUE=URI;X-ADDRESS=McGuane Field Park Noroton Ave Darien CT 06820;X-APPLE-RADIUS=500;X-TITLE=Noroton Ave:geo:-73.4912137,41.0716427
END:VEVENT
BEGIN:VEVENT
DTSTART;TZID=America/New_York:20201006T100000
DTEND;TZID=America/New_York:20201006T113000
DTSTAMP:20260425T231705
CREATED:20200827T144214Z
LAST-MODIFIED:20200929T151739Z
UID:10002351-1601978400-1601983800@ttmf.org
SUMMARY:Playtime with Preemies - Fairfield - Music Together
DESCRIPTION:PLAYTIME WITH PREEMIES \nSPECIAL GUEST: MUSIC TOGETHER OF FAIRFIELD COUNTY \nJoin a parent support mentor and other parents of preemies for a morning of preemie fun and parent socialization outdoors.  Social distancing guidelines will be followed in a park setting weather permitting.  Check this page for weather related cancellations. \nThis After the NICU playgroup is most appropriate for newborn to age 3 preemies.  Siblings welcome. \nSnacks and water will be provided. You are encouraged to bring a blanket and your own toys. \nUpcoming Dates: \nOctober 13 – Darien \nOctober 20 – Fairfield \nPlaygroup Time: 10:00 to 11:30 am \nMusic Together Session: 10:30 to 11:15 am \n* To get the most out of the programming\, please plan to attend all 4 Music Together sessions (in Darien & Fairfield). \nPlace: Jennings Beach Sandcastle Playground\, Fairfield\, CT
URL:https://ttmf.org/event/playtime-with-preemies-2020-10-06/
LOCATION:McGuane Field Park\, Noroton Ave\, Darien\, CT\, 06820
CATEGORIES:Upcoming Event
ATTACH;FMTTYPE=image/jpeg:https://ttmf.org/wp-content/uploads/2020/08/hispanic-toddler.jpg
ORGANIZER;CN="Tiny Miracles Foundation":MAILTO:info@ttmf.org
GEO:41.0716427;-73.4912137
X-APPLE-STRUCTURED-LOCATION;VALUE=URI;X-ADDRESS=McGuane Field Park Noroton Ave Darien CT 06820;X-APPLE-RADIUS=500;X-TITLE=Noroton Ave:geo:-73.4912137,41.0716427
END:VEVENT
BEGIN:VEVENT
DTSTART;TZID=America/New_York:20200922T100000
DTEND;TZID=America/New_York:20200922T113000
DTSTAMP:20260425T231705
CREATED:20200826T183412Z
LAST-MODIFIED:20200916T185301Z
UID:10002176-1600768800-1600774200@ttmf.org
SUMMARY:Playtime with Preemies - Darien - with Music Together
DESCRIPTION:PLAYTIME WITH PREEMIES \nSPECIAL GUEST: MUSIC TOGETHER OF FAIRFIELD COUNTY \nJoin a parent support mentor and other parents of preemies for a morning of preemie fun and parent socialization outdoors.  Social distancing guidelines will be followed in a park setting weather permitting.  Check this page for weather related cancellations. \nThis After the NICU playgroup is most appropriate for newborn to age 3 preemies.  Siblings welcome. \nSnacks and water will be provided. You are encouraged to bring a blanket and your own toys. \nUpcoming Darien Dates: \nOctober 6 – Music Together \n October 20 \nPlaygroup Time: 10:00 to 11:30 am \nMusic Together Session: 10:30 to 11:15 am \n* To get the most out of the programming\, please plan to attend all 4 Music Together sessions (in Darien & Fairfield) \nPlace: McGuane Field Playground\, Darien (between Noroton Ave & West Ave / I95 exit 10)
URL:https://ttmf.org/event/playtime-with-preemies-2020-09-22/
LOCATION:McGuane Field Park\, Noroton Ave\, Darien\, CT\, 06820
CATEGORIES:Upcoming Event
ATTACH;FMTTYPE=image/jpeg:https://ttmf.org/wp-content/uploads/2020/07/black-toddler-playing-e1593723413613.jpg
ORGANIZER;CN="Tiny Miracles Foundation":MAILTO:info@ttmf.org
GEO:41.0716427;-73.4912137
X-APPLE-STRUCTURED-LOCATION;VALUE=URI;X-ADDRESS=McGuane Field Park Noroton Ave Darien CT 06820;X-APPLE-RADIUS=500;X-TITLE=Noroton Ave:geo:-73.4912137,41.0716427
END:VEVENT
BEGIN:VEVENT
DTSTART;TZID=America/New_York:20200908T100000
DTEND;TZID=America/New_York:20200908T113000
DTSTAMP:20260425T231705
CREATED:20200826T182751Z
LAST-MODIFIED:20200831T160624Z
UID:10002167-1599559200-1599564600@ttmf.org
SUMMARY:Playtime with Preemies - Darien
DESCRIPTION:PLAYTIME WITH PREEMIES \nJoin a parent support mentor and other parents of preemies for a morning of preemie fun and parent socialization outdoors.  Social distancing guidelines will be followed in a park setting weather permitting.  Check this page for weather related cancellations. \nThis After the NICU playgroup is most appropriate for newborn to age 3 preemies.  Siblings welcome. \nSnacks and water will be provided. You are encouraged to bring a blanket and your own toys. \nUpcoming Dates: \nSeptember 8\, September 22 \nOctober 6\, October 20 \nTime: 10:00 to 11:30 am \nPlace: McGuane Field Playground\, Darien (between Noroton Ave & West Ave / I95 exit 10)
URL:https://ttmf.org/event/playtime-with-preemies-3-2020-09-08/
LOCATION:McGuane Field Park\, Noroton Ave\, Darien\, CT\, 06820
CATEGORIES:Upcoming Event
ATTACH;FMTTYPE=image/jpeg:https://ttmf.org/wp-content/uploads/2020/07/black-toddler-playing-e1593723413613.jpg
ORGANIZER;CN="Tiny Miracles Foundation":MAILTO:info@ttmf.org
GEO:41.0716427;-73.4912137
X-APPLE-STRUCTURED-LOCATION;VALUE=URI;X-ADDRESS=McGuane Field Park Noroton Ave Darien CT 06820;X-APPLE-RADIUS=500;X-TITLE=Noroton Ave:geo:-73.4912137,41.0716427
END:VEVENT
BEGIN:VEVENT
DTSTART;TZID=America/New_York:20200825T100000
DTEND;TZID=America/New_York:20200825T113000
DTSTAMP:20260425T231705
CREATED:20200702T201810Z
LAST-MODIFIED:20200806T174043Z
UID:10002348-1598349600-1598355000@ttmf.org
SUMMARY:Playtime with Preemies - Summer Fun Outdoors
DESCRIPTION:PLAYTIME WITH PREEMIES \nJoin a parent support mentor and other parents of preemies for a morning of preemie fun and parent socialization outdoors.  Social distancing guidelines will be followed in a park setting weather permitting.  Check this page for weather related cancellations. \nThis After the NICU playgroup is most appropriate for newborn to age 3 preemies.  Siblings welcome. \nSnacks and water will be provided. You are encouraged to bring a blanket and your own toys. \nSummer Dates: \nAugust 11th and 25th \nTime: 10:00 to 11:30 am \nPlace: McGuane Field Playground\, Darien (between Noroton Ave & West Ave / I95 exit 10)
URL:https://ttmf.org/event/playtime-with-preemies-3-2020-08-25/
LOCATION:McGuane Field Park\, Noroton Ave\, Darien\, CT\, 06820
CATEGORIES:Upcoming Event
ATTACH;FMTTYPE=image/jpeg:https://ttmf.org/wp-content/uploads/2020/07/black-toddler-playing-e1593723413613.jpg
ORGANIZER;CN="Tiny Miracles Foundation":MAILTO:info@ttmf.org
GEO:41.0716427;-73.4912137
X-APPLE-STRUCTURED-LOCATION;VALUE=URI;X-ADDRESS=McGuane Field Park Noroton Ave Darien CT 06820;X-APPLE-RADIUS=500;X-TITLE=Noroton Ave:geo:-73.4912137,41.0716427
END:VEVENT
BEGIN:VEVENT
DTSTART;TZID=America/New_York:20200811T100000
DTEND;TZID=America/New_York:20200811T113000
DTSTAMP:20260425T231705
CREATED:20200702T201810Z
LAST-MODIFIED:20200806T173534Z
UID:10002347-1597140000-1597145400@ttmf.org
SUMMARY:Playtime with Preemies - Summer Fun Outdoors
DESCRIPTION:PLAYTIME WITH PREEMIES \nJoin a parent support mentor and other parents of preemies for a morning of preemie fun and parent socialization outdoors.  Social distancing guidelines will be followed in a park setting weather permitting.  Check this page for weather related cancellations. \nThis After the NICU playgroup is most appropriate for newborn to age 3 preemies.  Siblings welcome. \nSnacks and water will be provided. You are encouraged to bring a blanket and your own toys. \nSummer Dates: \nAugust 11th and 25th \nTime: 10:00 to 11:30 am \nPlace: McGuane Field Playground\, Darien (between Noroton Ave & West Ave / I95 exit 10)
URL:https://ttmf.org/event/playtime-with-preemies-3-2020-08-11/
LOCATION:McGuane Field Park\, Noroton Ave\, Darien\, CT\, 06820
CATEGORIES:Upcoming Event
ATTACH;FMTTYPE=image/jpeg:https://ttmf.org/wp-content/uploads/2020/07/black-toddler-playing-e1593723413613.jpg
ORGANIZER;CN="Tiny Miracles Foundation":MAILTO:info@ttmf.org
GEO:41.0716427;-73.4912137
X-APPLE-STRUCTURED-LOCATION;VALUE=URI;X-ADDRESS=McGuane Field Park Noroton Ave Darien CT 06820;X-APPLE-RADIUS=500;X-TITLE=Noroton Ave:geo:-73.4912137,41.0716427
END:VEVENT
BEGIN:VEVENT
DTSTART;TZID=America/New_York:20200714T100000
DTEND;TZID=America/New_York:20200714T113000
DTSTAMP:20260425T231705
CREATED:20200702T201810Z
LAST-MODIFIED:20230523T135342Z
UID:10002346-1594720800-1594726200@ttmf.org
SUMMARY:Playtime with Preemies - Summer Fun Outdoors
DESCRIPTION:PLAYTIME WITH PREEMIES \nJoin a parent support mentor and other parents of preemies for a morning of preemie fun and parent socialization outdoors.  Social distancing guidelines will be followed in a park setting weather permitting.  Check this page for weather related cancellations. \nThis After the NICU playgroup is most appropriate for newborn to age 3 preemies.  Siblings welcome. \nSnacks and water will be provided. You are encouraged to bring a blanket and your own toys. \nSummer Dates: \nAugust 11th and 25th \nTime: 10:00 to 11:30 am \nPlace: McGuane Field Playground\, Darien (between Noroton Ave & West Ave / I95 exit 10)
URL:https://ttmf.org/event/playtime-with-preemies-3/
LOCATION:McGuane Field Park\, Noroton Ave\, Darien\, CT\, 06820
CATEGORIES:Upcoming Event
ATTACH;FMTTYPE=image/jpeg:https://ttmf.org/wp-content/uploads/2020/07/black-toddler-playing-e1593723413613.jpg
ORGANIZER;CN="Tiny Miracles Foundation":MAILTO:info@ttmf.org
GEO:41.0716427;-73.4912137
X-APPLE-STRUCTURED-LOCATION;VALUE=URI;X-ADDRESS=McGuane Field Park Noroton Ave Darien CT 06820;X-APPLE-RADIUS=500;X-TITLE=Noroton Ave:geo:-73.4912137,41.0716427
END:VEVENT
END:VCALENDAR