BEGIN:VCALENDAR
VERSION:2.0
PRODID:-//The Tiny Miracles Foundation - ECPv6.15.20//NONSGML v1.0//EN
CALSCALE:GREGORIAN
METHOD:PUBLISH
X-WR-CALNAME:The Tiny Miracles Foundation
X-ORIGINAL-URL:https://ttmf.org
X-WR-CALDESC:Events for The Tiny Miracles Foundation
REFRESH-INTERVAL;VALUE=DURATION:PT1H
X-Robots-Tag:noindex
X-PUBLISHED-TTL:PT1H
BEGIN:VTIMEZONE
TZID:America/New_York
BEGIN:DAYLIGHT
TZOFFSETFROM:-0500
TZOFFSETTO:-0400
TZNAME:EDT
DTSTART:20180311T070000
END:DAYLIGHT
BEGIN:STANDARD
TZOFFSETFROM:-0400
TZOFFSETTO:-0500
TZNAME:EST
DTSTART:20181104T060000
END:STANDARD
BEGIN:DAYLIGHT
TZOFFSETFROM:-0500
TZOFFSETTO:-0400
TZNAME:EDT
DTSTART:20190310T070000
END:DAYLIGHT
BEGIN:STANDARD
TZOFFSETFROM:-0400
TZOFFSETTO:-0500
TZNAME:EST
DTSTART:20191103T060000
END:STANDARD
BEGIN:DAYLIGHT
TZOFFSETFROM:-0500
TZOFFSETTO:-0400
TZNAME:EDT
DTSTART:20200308T070000
END:DAYLIGHT
BEGIN:STANDARD
TZOFFSETFROM:-0400
TZOFFSETTO:-0500
TZNAME:EST
DTSTART:20201101T060000
END:STANDARD
BEGIN:DAYLIGHT
TZOFFSETFROM:-0500
TZOFFSETTO:-0400
TZNAME:EDT
DTSTART:20210314T070000
END:DAYLIGHT
BEGIN:STANDARD
TZOFFSETFROM:-0400
TZOFFSETTO:-0500
TZNAME:EST
DTSTART:20211107T060000
END:STANDARD
BEGIN:DAYLIGHT
TZOFFSETFROM:-0500
TZOFFSETTO:-0400
TZNAME:EDT
DTSTART:20220313T070000
END:DAYLIGHT
BEGIN:STANDARD
TZOFFSETFROM:-0400
TZOFFSETTO:-0500
TZNAME:EST
DTSTART:20221106T060000
END:STANDARD
BEGIN:DAYLIGHT
TZOFFSETFROM:-0500
TZOFFSETTO:-0400
TZNAME:EDT
DTSTART:20230312T070000
END:DAYLIGHT
BEGIN:STANDARD
TZOFFSETFROM:-0400
TZOFFSETTO:-0500
TZNAME:EST
DTSTART:20231105T060000
END:STANDARD
BEGIN:DAYLIGHT
TZOFFSETFROM:-0500
TZOFFSETTO:-0400
TZNAME:EDT
DTSTART:20240310T070000
END:DAYLIGHT
BEGIN:STANDARD
TZOFFSETFROM:-0400
TZOFFSETTO:-0500
TZNAME:EST
DTSTART:20241103T060000
END:STANDARD
END:VTIMEZONE
BEGIN:VEVENT
DTSTART;TZID=America/New_York:20231002T110000
DTEND;TZID=America/New_York:20231002T110000
DTSTAMP:20260425T202017
CREATED:20230725T151217Z
LAST-MODIFIED:20230725T160745Z
UID:10002539-1696244400-1696244400@ttmf.org
SUMMARY:Tee Up FORE Preemies Golf Event
DESCRIPTION:  \n \nTee up with Tiny Miracles and help make critical programs available to families with premature babies in area hospitals by participating in our 5th annual Golf Event.    \nMonday\, October 2 \nAspetuck Valley Country Club \nWeston\, CT \n  \nOuting includes: \nLunch served on the patio featuring grilled favorites hamburgers and hot dogs. \nA Cocktail Reception following Golf with heavy hors d’œuvres \nPrizes for Straightest Line (3rd Hole) & Closest to the Pin (5th Hole) \n  \nSPONSOR or REGISTER NOW \n  \n11:00 Check In and Lunch \n12:00 Shotgun Start / Scramble \n5:00 Reception
URL:https://ttmf.org/event/golf-outing-2023/
LOCATION:Aspetuck Valley Country Club\, 67 Old Redding Rd.\, Weston\, CT\, 06883
CATEGORIES:Featured Event,Upcoming Event
ATTACH;FMTTYPE=image/jpeg:https://ttmf.org/wp-content/uploads/2023/07/Golf-Website-graphic.jpg
ORGANIZER;CN="Tiny Miracles Foundation":MAILTO:info@ttmf.org
GEO:41.2288519;-73.3351647
X-APPLE-STRUCTURED-LOCATION;VALUE=URI;X-ADDRESS=Aspetuck Valley Country Club 67 Old Redding Rd. Weston CT 06883;X-APPLE-RADIUS=500;X-TITLE=67 Old Redding Rd.:geo:-73.3351647,41.2288519
END:VEVENT
BEGIN:VEVENT
DTSTART;TZID=America/New_York:20221003T110000
DTEND;TZID=America/New_York:20221003T110000
DTSTAMP:20260425T202017
CREATED:20220719T165257Z
LAST-MODIFIED:20220909T155910Z
UID:10002510-1664794800-1664794800@ttmf.org
SUMMARY:Tee Up FORE Preemies Golf Outing
DESCRIPTION:Tee up with Tiny Miracles and help make critical programs available to families with premature babies in area hospitals by participating in our 4th annual Golf Event.    \nMonday\, October 3 \nAspetuck Valley Country Club \nWeston\, CT \n  \nOuting includes: \nLunch served on the patio featuring grilled favorites hamburgers and hot dogs. \nA Cocktail Reception following Golf with heavy hors d’œuvres \nPrizes for Straightest Line (3rd Hole) & Closest to the Pin (5th Hole) \n  \nSPONSOR or REGISTER NOW \n  \n11:00 Check In and Lunch \n12:00 Shotgun Start / Scramble \n5:00 Reception \n  \nThank You to our growing list of Sponsors: \nCarmody Torrance Sandak & Hennessey LLP ~ \nGrant Thorton LLP ~ Broder Orland Murray & DeMattie LLC ~ \nPediatric Healthcare Associates Dr. Richard Freedman ~ \nNoto Family ~ Michael and Leelee Klein ~  \nBrian Hetherington ~ Ed Borkowski
URL:https://ttmf.org/event/golf-outing-2022/
LOCATION:Aspetuck Valley Country Club\, 67 Old Redding Rd.\, Weston\, CT\, 06883
CATEGORIES:Featured Event,Upcoming Event
ATTACH;FMTTYPE=image/png:https://ttmf.org/wp-content/uploads/2022/07/Golf-ball-with-logo-2.png
ORGANIZER;CN="Tiny Miracles Foundation":MAILTO:info@ttmf.org
GEO:41.2288519;-73.3351647
X-APPLE-STRUCTURED-LOCATION;VALUE=URI;X-ADDRESS=Aspetuck Valley Country Club 67 Old Redding Rd. Weston CT 06883;X-APPLE-RADIUS=500;X-TITLE=67 Old Redding Rd.:geo:-73.3351647,41.2288519
END:VEVENT
BEGIN:VEVENT
DTSTART;TZID=America/New_York:20210621T110000
DTEND;TZID=America/New_York:20210621T200000
DTSTAMP:20260425T202017
CREATED:20200114T161541Z
LAST-MODIFIED:20210603T164401Z
UID:10002282-1624273200-1624305600@ttmf.org
SUMMARY:Tee Up FORE Preemies Golf Outing
DESCRIPTION:We are pleased to announce that the The Tiny Miracles Foundation’s annual golf and tennis outings\, Tee Up FORE Preemies and Grand Slam for Preemies will be held at Aspetuck Valley Country Club in Weston\, CT on Monday\, June 21\, 2021.  Plans are underway\, but we need your help. \n  \nThere are many different opportunities to support The Tiny Miracles Foundation and your consideration of supporting the golf or tennis event is truly appreciated.  Enclosed please find sponsorship forms for each event.  Your sponsorship\, participation or gift will directly help maintain\, expand and enrich TTMF’s programs and services for premature babies and bring invaluable hope and support to their families during challenging times.  However you elect to participate\, please be assured that the direct beneficiaries of your generosity will always be the preemies and families whom we have the privilege to serve. \n \nTEE UP FORE PREEMIES – SPONSORSHIP LEVELS: \nMASTERS SPONSOR $5\,000                  \nThis title sponsorship includes tournament spots\, lunch & dinner for 8 players; TTMF website & Golf Event page with link to your company website; recognition in pre & post event PR\, social media & dinner with emcee remarks; company name on table top display\, signage & dinner entry sign; and signage on course at 1st and 18th hole. \nUS OPEN SPONSOR $3\,000                    \nThis sponsorship includes tournament spots\, lunch & dinner for 4 players; corporate logo on Golf Event page with link to your company website; recognition in pre & post event PR\, social media & dinner with emcee remarks; company name on table top display\, signage & lunch entry sign; and signage on course at 18th hole. \nBRITISH OPEN SPONSOR $2\,000         \nThis sponsorship includes tournament spots\, lunch & dinner for 2 players; corporate logo on Golf Event page; recognition in pre & post event PR\, social media & dinner with emcee remarks; company name on table top display & signage; and signage on course at 18th hole. \nPGA SPONSOR $1\,000                             \nThis sponsorship includes tournament spot\, lunch & dinner for 1 player; corporate logo on Golf Event page; recognition in pre & post event PR\, social media & dinner with emcee remarks; company name on table top display & signage; and signage on course at 9th hole. \nTEE SPONSOR $250                               \nThis sponsorship includes recognition in pre & post event PR\, social media\, and signage on course with company name. \nCONTEST SPONSOR $250                     \nContest sponsorship includes recognition in pre & post event PR\, social media\, and at dinner when contest winners are announced. (Women & Men’s Closest to the Pin; Women & Men’s Closest to the Line; Winning Foursome) \n  \nTournament Spots include: Beer & Wine at Lunch; Beer on course; Open Bar at Dinner \n  \nGOLF PARTICIPATION:     \nFOURSOME $1\,400    \nSINGLE $350     \nDINNER ONLY $100 (With Open Bar) \n  \n  \n** CLICK HERE TO REGISTER NOW ** \n  \nThank you to our growing list of Sponsors:
URL:https://ttmf.org/event/golf-outing-2021/
LOCATION:Aspetuck Valley Country Club\, 67 Old Redding Rd.\, Weston\, CT\, 06883
CATEGORIES:Featured Event,Upcoming Event
ATTACH;FMTTYPE=image/png:https://ttmf.org/wp-content/uploads/2020/01/GolfInviteNEW.png
ORGANIZER;CN="Tiny Miracles Foundation":MAILTO:info@ttmf.org
GEO:41.2288519;-73.3351647
X-APPLE-STRUCTURED-LOCATION;VALUE=URI;X-ADDRESS=Aspetuck Valley Country Club 67 Old Redding Rd. Weston CT 06883;X-APPLE-RADIUS=500;X-TITLE=67 Old Redding Rd.:geo:-73.3351647,41.2288519
END:VEVENT
BEGIN:VEVENT
DTSTART;TZID=America/New_York:20210621T080000
DTEND;TZID=America/New_York:20210621T120000
DTSTAMP:20260425T202017
CREATED:20200114T164303Z
LAST-MODIFIED:20210603T164835Z
UID:10002284-1624262400-1624276800@ttmf.org
SUMMARY:TTMF Grand Slam Tennis Tournament
DESCRIPTION:We are pleased to announce that the The Tiny Miracles Foundation’s annual golf and tennis outings\, Tee Up FORE Preemies and Grand Slam for Preemies will be held at Aspetuck Valley Country Club in Weston\, CT on Monday\, June 21\, 2021.  Plans are underway\, but we need your help. \n  \nThere are many different opportunities to support The Tiny Miracles Foundation and your consideration of supporting the golf or tennis event is truly appreciated.  Enclosed please find sponsorship forms for each event.  Your sponsorship\, participation or gift will directly help maintain\, expand and enrich TTMF’s programs and services for premature babies and bring invaluable hope and support to their families during challenging times.  However you elect to participate\, please be assured that the direct beneficiaries of your generosity will always be the preemies and families whom we have the privilege to serve. \n \nGRAND SLAM FOR PREEMIES – SPONSORSHIP LEVELS \nUS OPEN SPONSOR  $2\,000                              \nThis title sponsorship includes tournament spots\, light breakfast & lunch for 8 players; TTMF website & Tennis Event page with link to your company website; recognition in pre & post event PR\, social media & dinner with emcee remarks; company name on table top display\, signage & dinner entry sign; and signage by courts. \n  \nWIMBLEDON OPEN SPONSOR  $1\,500 \nThis sponsorship includes tournament spots\, light breakfast & lunch for 4 players; corporate logo on Tennis Event page with link to your company website; recognition in pre & post event PR\, social media & dinner with emcee remarks; company name on table top display\, signage & lunch entry sign; and signage by courts. \n  \nAUSTRALIAN OPEN SPONSOR   $1\,000         \nThis sponsorship includes tournament spots\, light breakfast & lunch for 2 players; corporate logo on Tennis Event page; recognition in pre & post event PR\, social media & dinner with emcee remarks; company name on table top display & signage; and signage by courts. \n  \nFRENCH OPEN SPONSOR  $500                 \nThis sponsorship includes tournament spot\, light breakfast & lunch for 1 player; corporate logo on Tennis Event page; recognition in pre & post event PR\, social media & dinner with emcee remarks; company name on table top display & signage; and signage by courts. \n  \nSIGN SPONSOR $250                              \nThis sponsorship includes recognition in pre & post event PR\, social media\, and signage by courts with company name. \n  \nCONTEST SPONSOR $250 each              \nContest sponsorships includes recognition in pre & post event PR\, social media\, and at dinner when contest winners are announced.  \n  \nTournament Spots include: Light Breakfast\, Beer & Wine at Lunch; Refreshments Courtside \n  \nPARTICIPATION:     \n SINGLE PLAYER $175  (Light Breakfast & Lunch )   \nSINGLE TENNIS ONLY $100         \nDINNER ONLY $100 (With Open Bar) \n  \n  \n** CLICK HERE TO REGISTER NOW **\n \n \nThank you to our Event sponsors:
URL:https://ttmf.org/event/tennis-tournament-2021/
LOCATION:Aspetuck Valley Country Club\, 67 Old Redding Rd.\, Weston\, CT\, 06883
CATEGORIES:Upcoming Event
ATTACH;FMTTYPE=image/png:https://ttmf.org/wp-content/uploads/2020/01/TennisInviteNEWv2.png
ORGANIZER;CN="Tiny Miracles Foundation":MAILTO:info@ttmf.org
GEO:41.2288519;-73.3351647
X-APPLE-STRUCTURED-LOCATION;VALUE=URI;X-ADDRESS=Aspetuck Valley Country Club 67 Old Redding Rd. Weston CT 06883;X-APPLE-RADIUS=500;X-TITLE=67 Old Redding Rd.:geo:-73.3351647,41.2288519
END:VEVENT
BEGIN:VEVENT
DTSTART;TZID=America/New_York:20190729T133000
DTEND;TZID=America/New_York:20190729T163000
DTSTAMP:20260425T202017
CREATED:20190221T200229Z
LAST-MODIFIED:20190731T134303Z
UID:10002254-1564407000-1564417800@ttmf.org
SUMMARY:TTMF Grand Slam Tennis Event
DESCRIPTION:Join Tiny Miracles for our 1st Grand Slam tennis tournament. \nRESCHEDULED: Monday\, July 29\, 2019 \nRound Robin Tournament  1:30 – 4:30 PM \nCocktails  5:30 PM ~ Dinner following \nAspetuck Valley Country Club \nEvent ticket purchase includes refreshments court-side and dinner at the main club. \nWear your tennis whites.
URL:https://ttmf.org/event/ttmf-grand-slam-tennis-event/
LOCATION:Aspetuck Valley Country Club\, 67 Old Redding Rd.\, Weston\, CT\, 06883
CATEGORIES:Event passed
ATTACH;FMTTYPE=image/jpeg:https://ttmf.org/wp-content/uploads/2019/02/Tennis-Racquet.jpg
ORGANIZER;CN="Tiny Miracles Foundation":MAILTO:info@ttmf.org
GEO:41.2288519;-73.3351647
X-APPLE-STRUCTURED-LOCATION;VALUE=URI;X-ADDRESS=Aspetuck Valley Country Club 67 Old Redding Rd. Weston CT 06883;X-APPLE-RADIUS=500;X-TITLE=67 Old Redding Rd.:geo:-73.3351647,41.2288519
END:VEVENT
END:VCALENDAR