BEGIN:VCALENDAR
VERSION:2.0
PRODID:-//The Tiny Miracles Foundation - ECPv6.15.20//NONSGML v1.0//EN
CALSCALE:GREGORIAN
METHOD:PUBLISH
X-ORIGINAL-URL:https://ttmf.org
X-WR-CALDESC:Events for The Tiny Miracles Foundation
REFRESH-INTERVAL;VALUE=DURATION:PT1H
X-Robots-Tag:noindex
X-PUBLISHED-TTL:PT1H
BEGIN:VTIMEZONE
TZID:America/New_York
BEGIN:DAYLIGHT
TZOFFSETFROM:-0500
TZOFFSETTO:-0400
TZNAME:EDT
DTSTART:20180311T070000
END:DAYLIGHT
BEGIN:STANDARD
TZOFFSETFROM:-0400
TZOFFSETTO:-0500
TZNAME:EST
DTSTART:20181104T060000
END:STANDARD
BEGIN:DAYLIGHT
TZOFFSETFROM:-0500
TZOFFSETTO:-0400
TZNAME:EDT
DTSTART:20190310T070000
END:DAYLIGHT
BEGIN:STANDARD
TZOFFSETFROM:-0400
TZOFFSETTO:-0500
TZNAME:EST
DTSTART:20191103T060000
END:STANDARD
BEGIN:DAYLIGHT
TZOFFSETFROM:-0500
TZOFFSETTO:-0400
TZNAME:EDT
DTSTART:20200308T070000
END:DAYLIGHT
BEGIN:STANDARD
TZOFFSETFROM:-0400
TZOFFSETTO:-0500
TZNAME:EST
DTSTART:20201101T060000
END:STANDARD
END:VTIMEZONE
BEGIN:VEVENT
DTSTART;TZID=America/New_York:20190729T120000
DTEND;TZID=America/New_York:20190729T200000
DTSTAMP:20260426T002321
CREATED:20190129T184416Z
LAST-MODIFIED:20190731T134341Z
UID:10002253-1564401600-1564430400@ttmf.org
SUMMARY:TTMF Golf Outing
DESCRIPTION:Join TTMF for lunch\, golf\, cocktails and dinner at our 2nd annual golf outing: Tee Up FORE Preemies \nRESCHEDULED: Monday\, July 29\, 2019 \nAspetuck Valley Country Club \nWeston\, CT \n1 pm Shotgun Start \n5:30 pm Cocktails ~ Dinner following \nSCROLL DOWN FOR SPONSOR & TICKET PURCHASE. \n  \nThank you to our Sponsors:
URL:https://ttmf.org/event/ttmf-golf-outing/
LOCATION:Aspetuck Valley Country Club\, 67 Old Redding Road\, Weston\, CT\, 06883
CATEGORIES:Event passed
ATTACH;FMTTYPE=image/jpeg:https://ttmf.org/wp-content/uploads/2019/01/Golf-Graphic.jpg
ORGANIZER;CN="Tiny Miracles Foundation":MAILTO:info@ttmf.org
GEO:41.2288519;-73.3351647
X-APPLE-STRUCTURED-LOCATION;VALUE=URI;X-ADDRESS=Aspetuck Valley Country Club 67 Old Redding Road Weston CT 06883;X-APPLE-RADIUS=500;X-TITLE=67 Old Redding Road:geo:-73.3351647,41.2288519
END:VEVENT
END:VCALENDAR