BEGIN:VCALENDAR
VERSION:2.0
PRODID:-//The Tiny Miracles Foundation - ECPv6.15.20//NONSGML v1.0//EN
CALSCALE:GREGORIAN
METHOD:PUBLISH
X-ORIGINAL-URL:https://ttmf.org
X-WR-CALDESC:Events for The Tiny Miracles Foundation
REFRESH-INTERVAL;VALUE=DURATION:PT1H
X-Robots-Tag:noindex
X-PUBLISHED-TTL:PT1H
BEGIN:VTIMEZONE
TZID:America/New_York
BEGIN:DAYLIGHT
TZOFFSETFROM:-0500
TZOFFSETTO:-0400
TZNAME:EDT
DTSTART:20170312T070000
END:DAYLIGHT
BEGIN:STANDARD
TZOFFSETFROM:-0400
TZOFFSETTO:-0500
TZNAME:EST
DTSTART:20171105T060000
END:STANDARD
BEGIN:DAYLIGHT
TZOFFSETFROM:-0500
TZOFFSETTO:-0400
TZNAME:EDT
DTSTART:20180311T070000
END:DAYLIGHT
BEGIN:STANDARD
TZOFFSETFROM:-0400
TZOFFSETTO:-0500
TZNAME:EST
DTSTART:20181104T060000
END:STANDARD
BEGIN:DAYLIGHT
TZOFFSETFROM:-0500
TZOFFSETTO:-0400
TZNAME:EDT
DTSTART:20190310T070000
END:DAYLIGHT
BEGIN:STANDARD
TZOFFSETFROM:-0400
TZOFFSETTO:-0500
TZNAME:EST
DTSTART:20191103T060000
END:STANDARD
END:VTIMEZONE
BEGIN:VEVENT
DTSTART;TZID=America/New_York:20180324T131500
DTEND;TZID=America/New_York:20180324T150000
DTSTAMP:20260426T003238
CREATED:20180307T033738Z
LAST-MODIFIED:20190502T160402Z
UID:10002202-1521897300-1521903600@ttmf.org
SUMMARY:Family Game Afternoon
DESCRIPTION:In partnership with TTMF and in hopes of receiving her Girl Scout Gold Award\, Abby L. is hosting a family game afternoon for preemie families at the \n\nYWCA of Greenwich\nSaturday\, March 24th\n1:15 – 3:00 pm\n    \n\n\n\n\n\n\n\n\n\n\n\nAbby’s goal is to have an event giving preemie families an opportunity to meet others who have gone through a similiar NICU experience\, such as her family did when her older brother was born weighing only 2 lbs.\n    \nJoin Abby for snacks and games with preemies of all ages and their non-preemie siblings! She hopes to see you there for a chance to bond with other families and have fun with your children.\n   \nThere will be a $5 entry fee to cover Abby’s costs\, payable in person or online through Paypal to goldawardabby@gmail.com.  Please contact Abby for questions or to RSVP to this fun event.
URL:https://ttmf.org/event/family-game-afternoon/
LOCATION:YWCA of Greenwich\, 259 E. Putnam Ave.\, Greenwich\, CT
CATEGORIES:Event passed
ATTACH;FMTTYPE=image/jpeg:https://ttmf.org/wp-content/uploads/2018/03/super-game-day.jpg
GEO:41.0376541;-73.6183899
X-APPLE-STRUCTURED-LOCATION;VALUE=URI;X-ADDRESS=YWCA of Greenwich 259 E. Putnam Ave. Greenwich CT;X-APPLE-RADIUS=500;X-TITLE=259 E. Putnam Ave.:geo:-73.6183899,41.0376541
END:VEVENT
END:VCALENDAR