BEGIN:VCALENDAR
VERSION:2.0
PRODID:-//The Tiny Miracles Foundation - ECPv6.15.20//NONSGML v1.0//EN
CALSCALE:GREGORIAN
METHOD:PUBLISH
X-WR-CALNAME:The Tiny Miracles Foundation
X-ORIGINAL-URL:https://ttmf.org
X-WR-CALDESC:Events for The Tiny Miracles Foundation
REFRESH-INTERVAL;VALUE=DURATION:PT1H
X-Robots-Tag:noindex
X-PUBLISHED-TTL:PT1H
BEGIN:VTIMEZONE
TZID:America/New_York
BEGIN:DAYLIGHT
TZOFFSETFROM:-0500
TZOFFSETTO:-0400
TZNAME:EDT
DTSTART:20250309T070000
END:DAYLIGHT
BEGIN:STANDARD
TZOFFSETFROM:-0400
TZOFFSETTO:-0500
TZNAME:EST
DTSTART:20251102T060000
END:STANDARD
BEGIN:DAYLIGHT
TZOFFSETFROM:-0500
TZOFFSETTO:-0400
TZNAME:EDT
DTSTART:20260308T070000
END:DAYLIGHT
BEGIN:STANDARD
TZOFFSETFROM:-0400
TZOFFSETTO:-0500
TZNAME:EST
DTSTART:20261101T060000
END:STANDARD
BEGIN:DAYLIGHT
TZOFFSETFROM:-0500
TZOFFSETTO:-0400
TZNAME:EDT
DTSTART:20270314T070000
END:DAYLIGHT
BEGIN:STANDARD
TZOFFSETFROM:-0400
TZOFFSETTO:-0500
TZNAME:EST
DTSTART:20271107T060000
END:STANDARD
END:VTIMEZONE
BEGIN:VEVENT
DTSTART;TZID=America/New_York:20260204T123000
DTEND;TZID=America/New_York:20260204T133000
DTSTAMP:20260425T155813
CREATED:20251215T164430Z
LAST-MODIFIED:20260115T142550Z
UID:10002632-1770208200-1770211800@ttmf.org
SUMMARY:Loss Support Group
DESCRIPTION:Consider joining a healing 6 week journey with a small group of parents who have the shared experience of having lost a child. The goal of the group is to experience interpersonal connection through your grief\, receive empathetic feedback from one another\, and experience the benefits of group support guided by a licensed social worker. We ask for a 6 week commitment to attend all sessions:\nWednesdays at 12:30 PM\n\n 	\n\n 	\nJan. 14 - first session\nJan. 21\nJan 28 - no session this week\nFeb. 4\nFeb. 11\nFeb. 18\nFeb. 25 - last session\n\n\n\n\n\n *** Please email info@ttmf.org to express your interest in joining this group. We will get back to you to learn more and discuss the details.
URL:https://ttmf.org/event/loss-support-group/2026-02-04/
ATTACH;FMTTYPE=image/png:https://ttmf.org/wp-content/uploads/2025/12/Loss-Support-Group-post-1.png
ORGANIZER;CN="Tiny Miracles Foundation":MAILTO:info@ttmf.org
END:VEVENT
BEGIN:VEVENT
DTSTART;TZID=America/New_York:20260211T123000
DTEND;TZID=America/New_York:20260211T133000
DTSTAMP:20260425T155813
CREATED:20251215T164430Z
LAST-MODIFIED:20260115T142550Z
UID:10002633-1770813000-1770816600@ttmf.org
SUMMARY:Loss Support Group
DESCRIPTION:Consider joining a healing 6 week journey with a small group of parents who have the shared experience of having lost a child. The goal of the group is to experience interpersonal connection through your grief\, receive empathetic feedback from one another\, and experience the benefits of group support guided by a licensed social worker. We ask for a 6 week commitment to attend all sessions:\nWednesdays at 12:30 PM\n\n 	\n\n 	\nJan. 14 - first session\nJan. 21\nJan 28 - no session this week\nFeb. 4\nFeb. 11\nFeb. 18\nFeb. 25 - last session\n\n\n\n\n\n *** Please email info@ttmf.org to express your interest in joining this group. We will get back to you to learn more and discuss the details.
URL:https://ttmf.org/event/loss-support-group/2026-02-11/
ATTACH;FMTTYPE=image/png:https://ttmf.org/wp-content/uploads/2025/12/Loss-Support-Group-post-1.png
ORGANIZER;CN="Tiny Miracles Foundation":MAILTO:info@ttmf.org
END:VEVENT
BEGIN:VEVENT
DTSTART;TZID=America/New_York:20260218T123000
DTEND;TZID=America/New_York:20260218T133000
DTSTAMP:20260425T155813
CREATED:20251215T164430Z
LAST-MODIFIED:20260115T142550Z
UID:10002634-1771417800-1771421400@ttmf.org
SUMMARY:Loss Support Group
DESCRIPTION:Consider joining a healing 6 week journey with a small group of parents who have the shared experience of having lost a child. The goal of the group is to experience interpersonal connection through your grief\, receive empathetic feedback from one another\, and experience the benefits of group support guided by a licensed social worker. We ask for a 6 week commitment to attend all sessions:\nWednesdays at 12:30 PM\n\n 	\n\n 	\nJan. 14 - first session\nJan. 21\nJan 28 - no session this week\nFeb. 4\nFeb. 11\nFeb. 18\nFeb. 25 - last session\n\n\n\n\n\n *** Please email info@ttmf.org to express your interest in joining this group. We will get back to you to learn more and discuss the details.
URL:https://ttmf.org/event/loss-support-group/2026-02-18/
ATTACH;FMTTYPE=image/png:https://ttmf.org/wp-content/uploads/2025/12/Loss-Support-Group-post-1.png
ORGANIZER;CN="Tiny Miracles Foundation":MAILTO:info@ttmf.org
END:VEVENT
BEGIN:VEVENT
DTSTART;TZID=America/New_York:20260224T193000
DTEND;TZID=America/New_York:20260224T193000
DTSTAMP:20260425T155813
CREATED:20260113T143938Z
LAST-MODIFIED:20260210T164213Z
UID:10002637-1771961400-1771961400@ttmf.org
SUMMARY:Common GI Concerns with Alex Koral\, MD
DESCRIPTION:Join Tiny Miracles and our presenter\, Dr. Alex Koral\, to hear from a pediatric gastroenterologist on concerns over \nReflux \nConstipation \nColic \nFood Allergies \nLive Q&A to follow presentation \nREGISTER BELOW
URL:https://ttmf.org/event/common-gi-concerns-with-alex-koral-md/
CATEGORIES:Upcoming Event
ATTACH;FMTTYPE=image/png:https://ttmf.org/wp-content/uploads/2026/01/Common-GI-Concerns-Drafts.png
ORGANIZER;CN="Tiny Miracles Foundation":MAILTO:info@ttmf.org
END:VEVENT
BEGIN:VEVENT
DTSTART;TZID=America/New_York:20260225T123000
DTEND;TZID=America/New_York:20260225T133000
DTSTAMP:20260425T155813
CREATED:20251215T164430Z
LAST-MODIFIED:20260115T142550Z
UID:10002635-1772022600-1772026200@ttmf.org
SUMMARY:Loss Support Group
DESCRIPTION:Consider joining a healing 6 week journey with a small group of parents who have the shared experience of having lost a child. The goal of the group is to experience interpersonal connection through your grief\, receive empathetic feedback from one another\, and experience the benefits of group support guided by a licensed social worker. We ask for a 6 week commitment to attend all sessions:\nWednesdays at 12:30 PM\n\n 	\n\n 	\nJan. 14 - first session\nJan. 21\nJan 28 - no session this week\nFeb. 4\nFeb. 11\nFeb. 18\nFeb. 25 - last session\n\n\n\n\n\n *** Please email info@ttmf.org to express your interest in joining this group. We will get back to you to learn more and discuss the details.
URL:https://ttmf.org/event/loss-support-group/2026-02-25/
ATTACH;FMTTYPE=image/png:https://ttmf.org/wp-content/uploads/2025/12/Loss-Support-Group-post-1.png
ORGANIZER;CN="Tiny Miracles Foundation":MAILTO:info@ttmf.org
END:VEVENT
END:VCALENDAR