BEGIN:VCALENDAR
VERSION:2.0
PRODID:-//The Tiny Miracles Foundation - ECPv6.15.20//NONSGML v1.0//EN
CALSCALE:GREGORIAN
METHOD:PUBLISH
X-WR-CALNAME:The Tiny Miracles Foundation
X-ORIGINAL-URL:https://ttmf.org
X-WR-CALDESC:Events for The Tiny Miracles Foundation
REFRESH-INTERVAL;VALUE=DURATION:PT1H
X-Robots-Tag:noindex
X-PUBLISHED-TTL:PT1H
BEGIN:VTIMEZONE
TZID:America/New_York
BEGIN:DAYLIGHT
TZOFFSETFROM:-0500
TZOFFSETTO:-0400
TZNAME:EDT
DTSTART:20240310T070000
END:DAYLIGHT
BEGIN:STANDARD
TZOFFSETFROM:-0400
TZOFFSETTO:-0500
TZNAME:EST
DTSTART:20241103T060000
END:STANDARD
BEGIN:DAYLIGHT
TZOFFSETFROM:-0500
TZOFFSETTO:-0400
TZNAME:EDT
DTSTART:20250309T070000
END:DAYLIGHT
BEGIN:STANDARD
TZOFFSETFROM:-0400
TZOFFSETTO:-0500
TZNAME:EST
DTSTART:20251102T060000
END:STANDARD
BEGIN:DAYLIGHT
TZOFFSETFROM:-0500
TZOFFSETTO:-0400
TZNAME:EDT
DTSTART:20260308T070000
END:DAYLIGHT
BEGIN:STANDARD
TZOFFSETFROM:-0400
TZOFFSETTO:-0500
TZNAME:EST
DTSTART:20261101T060000
END:STANDARD
END:VTIMEZONE
BEGIN:VEVENT
DTSTART;TZID=America/New_York:20250910T193000
DTEND;TZID=America/New_York:20250910T203000
DTSTAMP:20260425T211108
CREATED:20250731T144724Z
LAST-MODIFIED:20250731T145914Z
UID:10002599-1757532600-1757536200@ttmf.org
SUMMARY:The Basics of Mentoring
DESCRIPTION:Are you the parent of a premature baby? Have you considered giving back? \n\nYour unique experience may allow you to be a support to other parents going through \ntheir own NICU journey.\n\nTiny Miracles would love you to consider joining our team of parent support mentors. \nVolunteer opportunities are available both in CT hospitals and virtually.\n\nJoin us for a 3 part series to learn the Basics of Mentoring. \nSee if it's the right fit for you.
URL:https://ttmf.org/event/basics-of-mentoring-09102025/
CATEGORIES:Upcoming Event
ATTACH;FMTTYPE=image/png:https://ttmf.org/wp-content/uploads/2025/07/Mentor-Basics-3-part-series.png
ORGANIZER;CN="Tiny Miracles Foundation":MAILTO:info@ttmf.org
LOCATION:https://us02web.zoom.us/j/84446476857?pwd=ZLDtFhis4bPte1B1jHcE5TOBP0BVig.1
END:VEVENT
BEGIN:VEVENT
DTSTART;TZID=America/New_York:20250917T123000
DTEND;TZID=America/New_York:20250917T133000
DTSTAMP:20260425T211108
CREATED:20250729T185139Z
LAST-MODIFIED:20250904T181527Z
UID:10002591-1758112200-1758115800@ttmf.org
SUMMARY:Birth Trauma Support Group
DESCRIPTION:Consider joining a healing 8 week journey with a small group of parents who have the shared experience of birth trauma. \nThe goal of the group is to experience interpersonal connection\, receive empathetic feedback from one another\, and experience the \nbenefits of group support guided by a licensed social worker.\n      \nWe ask for an 8 week commitment to attend all sessions:\nWednesdays at 12:30 PM\nSeptember 17 through November 5.\n\n***\nPlease email info@ttmf.org to express your interest in joining this group. We will get back to you to learn more and discuss the details.
URL:https://ttmf.org/event/birth-trauma-support-group/2025-09-17/
ATTACH;FMTTYPE=image/png:https://ttmf.org/wp-content/uploads/2025/06/Birth-Trauma-Support-Group-Website.png
ORGANIZER;CN="Tiny Miracles Foundation":MAILTO:info@ttmf.org
END:VEVENT
BEGIN:VEVENT
DTSTART;TZID=America/New_York:20250924T123000
DTEND;TZID=America/New_York:20250924T133000
DTSTAMP:20260425T211108
CREATED:20250729T185139Z
LAST-MODIFIED:20250904T181527Z
UID:10002592-1758717000-1758720600@ttmf.org
SUMMARY:Birth Trauma Support Group
DESCRIPTION:Consider joining a healing 8 week journey with a small group of parents who have the shared experience of birth trauma. \nThe goal of the group is to experience interpersonal connection\, receive empathetic feedback from one another\, and experience the \nbenefits of group support guided by a licensed social worker.\n      \nWe ask for an 8 week commitment to attend all sessions:\nWednesdays at 12:30 PM\nSeptember 17 through November 5.\n\n***\nPlease email info@ttmf.org to express your interest in joining this group. We will get back to you to learn more and discuss the details.
URL:https://ttmf.org/event/birth-trauma-support-group/2025-09-24/
ATTACH;FMTTYPE=image/png:https://ttmf.org/wp-content/uploads/2025/06/Birth-Trauma-Support-Group-Website.png
ORGANIZER;CN="Tiny Miracles Foundation":MAILTO:info@ttmf.org
END:VEVENT
BEGIN:VEVENT
DTSTART;TZID=America/New_York:20250929T193000
DTEND;TZID=America/New_York:20250929T203000
DTSTAMP:20260425T211108
CREATED:20250731T150650Z
LAST-MODIFIED:20250902T164115Z
UID:10002600-1759174200-1759177800@ttmf.org
SUMMARY:Supporting Tiny Tummies - From NICU to Home
DESCRIPTION:Monday\, September 29\n\n\n7:30 PM\n\n\n\nJoin a panel of local feeding therapists for a Feeding 101 webinar – from basics to best practices for your preemie.\n\n\n\n\n\n\nPresented by:\n\nKaitlyn McNabb\, MS CCC-SLP\, CLC\nmcnabbfeedingtherapy.com\n*\nJessica Giametta\, MS CCC-SLP\, CLC\nfeedingfoundationstherapy.com\n*\nJessica Dam Andersen\, MS CCC-SLP\, CLC\, NTMCT\n\nandersenfeedingandswallowing.com\n\n\n\n*\nLive Q&A to follow presentation\n\n\n\n\nOur Presenters:\nKaitlyn McNabb is a pediatric speech-language pathologist and certified lactation consultant (CLC) with specialized expertise in pediatric feeding and swallowing disorders. She has extensive experience working in a children’s hospital setting as a feeding specialist\, where she assesses and treats medically complex infants and children. Her clinical background includes working in a Level IV Neonatal Intensive Care Unit (NICU) and performing advanced diagnostic procedures. In addition to her hospital work\, Kaitlyn is the founder and owner of McNabb Feeding Therapy LLC\, a private practice offering in-home feeding evaluations and therapy services tailored to the unique needs of each child and family.\n\n\n\n\n\nJessica Giametta is a licensed Speech-Language Pathologist (SLP) and Certified Lactation Counselor (CLC) with nearly 15 years of experience. She holds an advanced certificate in Pediatric Feeding and Swallowing from New York Medical College and specializes in supporting both preterm and term infants on their feeding journeys.  Jessica founded the NICU therapy program at Stamford Hospital\, where she continues to lead and grow services for medically fragile babies. She also runs a private practice\, Feeding Foundations Therapy\, offering individualized feeding support rooted in clinical expertise and compassionate care.\nJessica Dam Andersen is a speech-language pathologist (SLP) with specialization in feeding & swallowing disorders. She is also a  certified lactation counselor (CLC) and neonatal touch and massage therapist (NTMCT). Jessica has over 17 years experience working within the Yale New Haven Health System including the inpatient/outpatient settings\, NICU\, and multidisciplinary feeding clinic. Jessica provides evaluation & treatment to a wide range of patients including those who are premature\, medically fragile\, high risk\, & feeding tube reliant. In addition to her hospital work\, Jessica is the owner of Andersen Pediatric Feeding & Swallowing\, a private practice providing concierge quality care to families in CT and NY.\n 
URL:https://ttmf.org/event/supporting-tiny-tummies/
CATEGORIES:Upcoming Event
ATTACH;FMTTYPE=image/png:https://ttmf.org/wp-content/uploads/2025/07/Supporting-Tiny-Tummies-post.png
ORGANIZER;CN="Tiny Miracles Foundation":MAILTO:info@ttmf.org
LOCATION:https://ttmf.org/event/supporting-tiny-tummies/
END:VEVENT
END:VCALENDAR