BEGIN:VCALENDAR
VERSION:2.0
PRODID:-//The Tiny Miracles Foundation - ECPv6.15.20//NONSGML v1.0//EN
CALSCALE:GREGORIAN
METHOD:PUBLISH
X-ORIGINAL-URL:https://ttmf.org
X-WR-CALDESC:Events for The Tiny Miracles Foundation
REFRESH-INTERVAL;VALUE=DURATION:PT1H
X-Robots-Tag:noindex
X-PUBLISHED-TTL:PT1H
BEGIN:VTIMEZONE
TZID:America/New_York
BEGIN:DAYLIGHT
TZOFFSETFROM:-0500
TZOFFSETTO:-0400
TZNAME:EDT
DTSTART:20250309T070000
END:DAYLIGHT
BEGIN:STANDARD
TZOFFSETFROM:-0400
TZOFFSETTO:-0500
TZNAME:EST
DTSTART:20251102T060000
END:STANDARD
BEGIN:DAYLIGHT
TZOFFSETFROM:-0500
TZOFFSETTO:-0400
TZNAME:EDT
DTSTART:20260308T070000
END:DAYLIGHT
BEGIN:STANDARD
TZOFFSETFROM:-0400
TZOFFSETTO:-0500
TZNAME:EST
DTSTART:20261101T060000
END:STANDARD
BEGIN:DAYLIGHT
TZOFFSETFROM:-0500
TZOFFSETTO:-0400
TZNAME:EDT
DTSTART:20270314T070000
END:DAYLIGHT
BEGIN:STANDARD
TZOFFSETFROM:-0400
TZOFFSETTO:-0500
TZNAME:EST
DTSTART:20271107T060000
END:STANDARD
END:VTIMEZONE
BEGIN:VEVENT
DTSTART;TZID=America/New_York:20260429T180000
DTEND;TZID=America/New_York:20260429T200000
DTSTAMP:20260425T111212
CREATED:20260303T153810Z
LAST-MODIFIED:20260303T171051Z
UID:10002639-1777485600-1777492800@ttmf.org
SUMMARY:Maternal Mental Health Panel Presentation
DESCRIPTION:Navigating Support in the NICU \nApril 29\, 2026 \n6:00 – 8:00 PM \nWestport Woman’s Club \n\nJoin Tiny Miracles and our panel of leading experts for the annual Maternal Mental Health presentation and training.  Navigating support in the NICU can be a challenge for hospital staff\, nurses and social workers\, as well as Tiny Miracles parent mentors.  We invite you to listen and learn about current topics with Culture\, Community and Care as the theme of our event.\nTwo (2) hours of continuing education credits are being offered to nurses and social workers who attend this live event.\nTraining is free\, but registration is required.  See below.\n \n\n– – – – – – – – – – – – – – – – – – – – – – – – – – – – –\nWe are privileged to have the following speakers and experts in the field of Maternal Mental Health:\nDr. Solimar Santiago-Warner\, DSW\, LCSW\, PMH-C\nDr. Santiago-Warner is a clinician- scholar and perinatal mental health specialist with expertise in birth trauma\, perinatal loss\, and culturally responsive care. She brings an interdisciplinary lens informed by clinical social work\, palliative care\, and trauma-informed practice\, with a focus on how grief and trauma are experienced in the body. Dr. Santiago-Warner regularly provides training and consultation to healthcare professionals and is the founder of Solmaterna Psychotherapy & Consulting.\nAriel Thorne\, LCSW\, PMHC\nAs licensed clinician\, consultant\, and coach with over a decade of experience\, Ari has dedicated her career to supporting our most vulnerable communities. She is a Black mother of a former 23-week preemie and a passionate maternal mental health/ preemie advocate who believes deeply in the transformative power of voice. Ari intentionally weaves storytelling and her lived experience into her work as an adjunct professor\, doctoral student\, compelling speaker\, and interactive workshop facilitator—educating\, equipping\, and empowering others to take meaningful action on issues that specifically impact moms\, babies and communities of color.\nAndrea Payo\, LCSW\nAndrea Payo\, LCSW is a bilingual Licensed Clinical Social Worker with nearly 20 years of experience supporting pregnant individuals\, caregivers\, and families through early childhood and community-based programs. She serves as Program Director of the Parents as Teachers program at Family Centers\, Inc.\, where she provides clinical supervision and leads services that strengthen parent-child relationships\, promote caregiver emotional well-being\, and address the impact of stress and trauma on families. Andrea is passionate about advancing culturally responsive\, community-centered approaches to maternal mental health and improving access to supportive services for diverse families.\nRebekah Rosler\, LCSW\nRebekah Rosler is a licensed psychotherapist specializing in maternal mental health and is a PSI-trained maternal mental health therapist. She is also trained in EMDR\, supporting mothers through pregnancy\, postpartum\, fertility challenges\, and the emotional transitions of motherhood.\nRebekah works with women experiencing anxiety\, mood disorders\, trauma\, and identity shifts related to motherhood. Her approach is compassionate\, evidence-based\, and deeply attuned to the unique needs of mothers\, helping clients process past experiences\, reduce overwhelm\, and feel more grounded and confident in their lives and parenting.
URL:https://ttmf.org/event/mmh2026/
LOCATION:Westport Woman’s Club\, 44 Imperial Ave.\, Westport\, CT
CATEGORIES:Upcoming Event
ATTACH;FMTTYPE=image/png:https://ttmf.org/wp-content/uploads/2026/03/MMH-Culture-Community-and-Care-Social-Post.png
ORGANIZER;CN="Tiny Miracles Foundation":MAILTO:info@ttmf.org
GEO:41.1383141;-73.3591197
X-APPLE-STRUCTURED-LOCATION;VALUE=URI;X-ADDRESS=Westport Woman’s Club 44 Imperial Ave. Westport CT;X-APPLE-RADIUS=500;X-TITLE=44 Imperial Ave.:geo:-73.3591197,41.1383141
END:VEVENT
BEGIN:VEVENT
DTSTART;TZID=America/New_York:20260509T183000
DTEND;TZID=America/New_York:20260509T230000
DTSTAMP:20260425T111212
CREATED:20260303T152730Z
LAST-MODIFIED:20260414T155320Z
UID:10002638-1778351400-1778367600@ttmf.org
SUMMARY:Making Strides Gala
DESCRIPTION:Making Strides 2026 Gala \n\nSaturday\, May 9\, 2026 \n6:30 PM \nThe Loading Dock \nStamford\, CT
URL:https://ttmf.org/event/making-strides-gala/
CATEGORIES:Featured Event,Upcoming Event
ATTACH;FMTTYPE=image/jpeg:https://ttmf.org/wp-content/uploads/2026/03/Feb-24-Making-Strides-Digital-Invite-scaled-e1772551509197.jpg
ORGANIZER;CN="Tiny Miracles Foundation":MAILTO:info@ttmf.org
END:VEVENT
BEGIN:VEVENT
DTSTART;TZID=America/New_York:20260517T110000
DTEND;TZID=America/New_York:20260517T130000
DTSTAMP:20260425T111212
CREATED:20260413T152436Z
LAST-MODIFIED:20260413T153425Z
UID:10002641-1779015600-1779022800@ttmf.org
SUMMARY:Family Fun Day & NICU Reunion
DESCRIPTION:Sunday\, May 17\nJoin the Tiny Miracles family for food\, fun\, music and games!\nThis year’s fun day will be held in the Tiny Miracles backyard at\n1540 Post Road in Darien from 11am to 1pm.\n \n** Please RSVP below with a quantity of “1” for “total guests” which represents your whole family. **
URL:https://ttmf.org/event/ffd-2026/
CATEGORIES:Upcoming Event
ATTACH;FMTTYPE=image/png:https://ttmf.org/wp-content/uploads/2026/04/Family-Fun-Day-Spring-2026-Post.png
ORGANIZER;CN="Tiny Miracles Foundation":MAILTO:info@ttmf.org
END:VEVENT
BEGIN:VEVENT
DTSTART;TZID=America/New_York:20260519T193000
DTEND;TZID=America/New_York:20260519T203000
DTSTAMP:20260425T111212
CREATED:20260406T160059Z
LAST-MODIFIED:20260406T162447Z
UID:10002640-1779219000-1779222600@ttmf.org
SUMMARY:Understanding Your Child's Speech and OT Needs
DESCRIPTION:Do you have concerns around your preemie’s developmental abilities and growth?  Are you worried about their speech and communication?\nJoin us and our guest presenters\, Annmarie Demarco\, licensed pediatric occupational therapist specializing in fine motor delays\, and Drake Hastings \, licensed pediatric speech-language pathologist specializing in feeding and speech\, for Tiny Miracles’ next After the NICU Education Series.  Both therapists maintain their own private practice and work with Birth to Three.\nPurpose of this presentation will be to help parents recognize the signs that OT and/or speech may be needed.\nOccupational Therapy\nOT helps infants and toddlers develop their fine motor\, cognitive\, and processing skills which are all needed to complete tasks such as lifting their heads\, sitting\, and grasping toys.  Skills needed to help your little miracle explore their world.\nSpeech Therapy\nInfant speech therapy helps babies learn to feed properly and develop better communication skills.\n***\nRSVP below to receive the Zoom meeting link prior to the session.\n***\nAnnmarie DeMarco\, OTR/L\nPediatric Occupational Therapist\nAnnmariedemarcoLLC@gmail.com\nhttp://www.annmarieot.com\n***\nDrake Hastings\, M.S.\, CCC-SLP\nSpeech-Language Pathologist\nPediatric Oral Motor/Feeding Therapist\nDHastings.SLP@gmail.com\nSpeechAndFeedingKids.com
URL:https://ttmf.org/event/speech-and-ot/
CATEGORIES:Upcoming Event
ATTACH;FMTTYPE=image/png:https://ttmf.org/wp-content/uploads/2026/04/Speech-OT-ATN.png
ORGANIZER;CN="Tiny Miracles Foundation":MAILTO:info@ttmf.org
LOCATION:https://us02web.zoom.us/j/83536184400?pwd=JcsufhPLtwQd7UIbrWuGoCr06fepPn.1
END:VEVENT
END:VCALENDAR