BEGIN:VCALENDAR
VERSION:2.0
PRODID:-//The Tiny Miracles Foundation - ECPv6.15.20//NONSGML v1.0//EN
CALSCALE:GREGORIAN
METHOD:PUBLISH
X-WR-CALNAME:The Tiny Miracles Foundation
X-ORIGINAL-URL:https://ttmf.org
X-WR-CALDESC:Events for The Tiny Miracles Foundation
REFRESH-INTERVAL;VALUE=DURATION:PT1H
X-Robots-Tag:noindex
X-PUBLISHED-TTL:PT1H
BEGIN:VTIMEZONE
TZID:America/New_York
BEGIN:DAYLIGHT
TZOFFSETFROM:-0500
TZOFFSETTO:-0400
TZNAME:EDT
DTSTART:20240310T070000
END:DAYLIGHT
BEGIN:STANDARD
TZOFFSETFROM:-0400
TZOFFSETTO:-0500
TZNAME:EST
DTSTART:20241103T060000
END:STANDARD
BEGIN:DAYLIGHT
TZOFFSETFROM:-0500
TZOFFSETTO:-0400
TZNAME:EDT
DTSTART:20250309T070000
END:DAYLIGHT
BEGIN:STANDARD
TZOFFSETFROM:-0400
TZOFFSETTO:-0500
TZNAME:EST
DTSTART:20251102T060000
END:STANDARD
BEGIN:DAYLIGHT
TZOFFSETFROM:-0500
TZOFFSETTO:-0400
TZNAME:EDT
DTSTART:20260308T070000
END:DAYLIGHT
BEGIN:STANDARD
TZOFFSETFROM:-0400
TZOFFSETTO:-0500
TZNAME:EST
DTSTART:20261101T060000
END:STANDARD
END:VTIMEZONE
BEGIN:VEVENT
DTSTART;TZID=America/New_York:20251026T140000
DTEND;TZID=America/New_York:20251026T170000
DTSTAMP:20260425T211117
CREATED:20250807T144325Z
LAST-MODIFIED:20250922T140828Z
UID:10002604-1761487200-1761498000@ttmf.org
SUMMARY:Family Fun Day & NICU Reunion
DESCRIPTION:Come trick or treat with Tiny Miracles!\n \nJoin local NICU Alumni\, their parents and siblings for this FREE event:\nOctober 26 \n2-5 PM\nDiscovery Science Center\n\n\nExplore space and science with fun exhibits including a planetarium show and imagination playzone.\nLunch included.\nCostumes encouraged but not required.\n***\nRegistration strongly suggested.\nPlease leave TOTAL GUESTS under ATTENDEE REGISTRATION as “1” to represent your family.\nMore detail will be added below.
URL:https://ttmf.org/event/family-fun-day-102625/
CATEGORIES:Virtual Support Group
ATTACH;FMTTYPE=image/png:https://ttmf.org/wp-content/uploads/2025/08/Fall-Family-Fun-Day-2025-2.png
ORGANIZER;CN="Tiny Miracles Foundation":MAILTO:info@ttmf.org
END:VEVENT
END:VCALENDAR