BEGIN:VCALENDAR
VERSION:2.0
PRODID:-//The Tiny Miracles Foundation - ECPv6.15.20//NONSGML v1.0//EN
CALSCALE:GREGORIAN
METHOD:PUBLISH
X-ORIGINAL-URL:https://ttmf.org
X-WR-CALDESC:Events for The Tiny Miracles Foundation
REFRESH-INTERVAL;VALUE=DURATION:PT1H
X-Robots-Tag:noindex
X-PUBLISHED-TTL:PT1H
BEGIN:VTIMEZONE
TZID:America/New_York
BEGIN:DAYLIGHT
TZOFFSETFROM:-0500
TZOFFSETTO:-0400
TZNAME:EDT
DTSTART:20250309T070000
END:DAYLIGHT
BEGIN:STANDARD
TZOFFSETFROM:-0400
TZOFFSETTO:-0500
TZNAME:EST
DTSTART:20251102T060000
END:STANDARD
BEGIN:DAYLIGHT
TZOFFSETFROM:-0500
TZOFFSETTO:-0400
TZNAME:EDT
DTSTART:20260308T070000
END:DAYLIGHT
BEGIN:STANDARD
TZOFFSETFROM:-0400
TZOFFSETTO:-0500
TZNAME:EST
DTSTART:20261101T060000
END:STANDARD
BEGIN:DAYLIGHT
TZOFFSETFROM:-0500
TZOFFSETTO:-0400
TZNAME:EDT
DTSTART:20270314T070000
END:DAYLIGHT
BEGIN:STANDARD
TZOFFSETFROM:-0400
TZOFFSETTO:-0500
TZNAME:EST
DTSTART:20271107T060000
END:STANDARD
END:VTIMEZONE
BEGIN:VEVENT
DTSTART;TZID=America/New_York:20260509T183000
DTEND;TZID=America/New_York:20260509T230000
DTSTAMP:20260425T180941
CREATED:20260303T152730Z
LAST-MODIFIED:20260414T155320Z
UID:10002638-1778351400-1778367600@ttmf.org
SUMMARY:Making Strides Gala
DESCRIPTION:Making Strides 2026 Gala \n\nSaturday\, May 9\, 2026 \n6:30 PM \nThe Loading Dock \nStamford\, CT
URL:https://ttmf.org/event/making-strides-gala/
CATEGORIES:Featured Event,Upcoming Event
ATTACH;FMTTYPE=image/jpeg:https://ttmf.org/wp-content/uploads/2026/03/Feb-24-Making-Strides-Digital-Invite-scaled-e1772551509197.jpg
ORGANIZER;CN="Tiny Miracles Foundation":MAILTO:info@ttmf.org
END:VEVENT
END:VCALENDAR