BEGIN:VCALENDAR
VERSION:2.0
PRODID:-//The Tiny Miracles Foundation - ECPv6.15.20//NONSGML v1.0//EN
CALSCALE:GREGORIAN
METHOD:PUBLISH
X-WR-CALNAME:The Tiny Miracles Foundation
X-ORIGINAL-URL:https://ttmf.org
X-WR-CALDESC:Events for The Tiny Miracles Foundation
REFRESH-INTERVAL;VALUE=DURATION:PT1H
X-Robots-Tag:noindex
X-PUBLISHED-TTL:PT1H
BEGIN:VTIMEZONE
TZID:America/New_York
BEGIN:DAYLIGHT
TZOFFSETFROM:-0500
TZOFFSETTO:-0400
TZNAME:EDT
DTSTART:20180311T070000
END:DAYLIGHT
BEGIN:STANDARD
TZOFFSETFROM:-0400
TZOFFSETTO:-0500
TZNAME:EST
DTSTART:20181104T060000
END:STANDARD
BEGIN:DAYLIGHT
TZOFFSETFROM:-0500
TZOFFSETTO:-0400
TZNAME:EDT
DTSTART:20190310T070000
END:DAYLIGHT
BEGIN:STANDARD
TZOFFSETFROM:-0400
TZOFFSETTO:-0500
TZNAME:EST
DTSTART:20191103T060000
END:STANDARD
BEGIN:DAYLIGHT
TZOFFSETFROM:-0500
TZOFFSETTO:-0400
TZNAME:EDT
DTSTART:20200308T070000
END:DAYLIGHT
BEGIN:STANDARD
TZOFFSETFROM:-0400
TZOFFSETTO:-0500
TZNAME:EST
DTSTART:20201101T060000
END:STANDARD
BEGIN:DAYLIGHT
TZOFFSETFROM:-0500
TZOFFSETTO:-0400
TZNAME:EDT
DTSTART:20210314T070000
END:DAYLIGHT
BEGIN:STANDARD
TZOFFSETFROM:-0400
TZOFFSETTO:-0500
TZNAME:EST
DTSTART:20211107T060000
END:STANDARD
BEGIN:DAYLIGHT
TZOFFSETFROM:-0500
TZOFFSETTO:-0400
TZNAME:EDT
DTSTART:20220313T070000
END:DAYLIGHT
BEGIN:STANDARD
TZOFFSETFROM:-0400
TZOFFSETTO:-0500
TZNAME:EST
DTSTART:20221106T060000
END:STANDARD
BEGIN:DAYLIGHT
TZOFFSETFROM:-0500
TZOFFSETTO:-0400
TZNAME:EDT
DTSTART:20230312T070000
END:DAYLIGHT
BEGIN:STANDARD
TZOFFSETFROM:-0400
TZOFFSETTO:-0500
TZNAME:EST
DTSTART:20231105T060000
END:STANDARD
BEGIN:DAYLIGHT
TZOFFSETFROM:-0500
TZOFFSETTO:-0400
TZNAME:EDT
DTSTART:20240310T070000
END:DAYLIGHT
BEGIN:STANDARD
TZOFFSETFROM:-0400
TZOFFSETTO:-0500
TZNAME:EST
DTSTART:20241103T060000
END:STANDARD
BEGIN:DAYLIGHT
TZOFFSETFROM:-0500
TZOFFSETTO:-0400
TZNAME:EDT
DTSTART:20250309T070000
END:DAYLIGHT
BEGIN:STANDARD
TZOFFSETFROM:-0400
TZOFFSETTO:-0500
TZNAME:EST
DTSTART:20251102T060000
END:STANDARD
END:VTIMEZONE
BEGIN:VEVENT
DTSTART;TZID=America/New_York:20241113T110000
DTEND;TZID=America/New_York:20241113T140000
DTSTAMP:20260425T181424
CREATED:20240924T183936Z
LAST-MODIFIED:20240930T170522Z
UID:10002578-1731495600-1731506400@ttmf.org
SUMMARY:Guiding Growing Minds Luncheon
DESCRIPTION:Supporting a child’s self-regulation through positive connection.\n \nJoin The Tiny Miracles Foundation for a special luncheon and discussion on\nGUIDING GROWING MINDS.\n*** \n\n\n\n\n\nPURCHASE TICKETS AND SPONSORSHIPS HERE\n\n\n\n\nGuest Speakers Natalie Hiromi Brito\, Developmental Psychologist and Associate Professor at NYU\, and Erin O’Connor\, Professor in Teaching and Learning at NYU’s Steinhardt School of Culture\, Education\, and Human Development\, will explore practical strategies and techniques that parents and caregivers can implement to foster a strong and nurturing bond with their children.
URL:https://ttmf.org/event/luncheon/
CATEGORIES:Featured Event,Upcoming Event
ATTACH;FMTTYPE=image/png:https://ttmf.org/wp-content/uploads/2024/09/ttmf_social_infeed-post_announcement_frame1.png
ORGANIZER;CN="Tiny Miracles Foundation":MAILTO:info@ttmf.org
END:VEVENT
BEGIN:VEVENT
DTSTART;TZID=America/New_York:20240511T180000
DTEND;TZID=America/New_York:20240511T230000
DTSTAMP:20260425T181424
CREATED:20240314T150135Z
LAST-MODIFIED:20240314T181822Z
UID:10002567-1715450400-1715468400@ttmf.org
SUMMARY:A Night Under the Stars Gala
DESCRIPTION:  \nFor more information\, visit our Event Page.
URL:https://ttmf.org/event/a-night-under-the-stars-gala/
CATEGORIES:Featured Event,Upcoming Event
ATTACH;FMTTYPE=image/png:https://ttmf.org/wp-content/uploads/2024/03/Gala-2024-SM-Graphic.png
ORGANIZER;CN="Tiny Miracles Foundation":MAILTO:info@ttmf.org
END:VEVENT
BEGIN:VEVENT
DTSTART;TZID=America/New_York:20231002T110000
DTEND;TZID=America/New_York:20231002T110000
DTSTAMP:20260425T181424
CREATED:20230725T151217Z
LAST-MODIFIED:20230725T160745Z
UID:10002539-1696244400-1696244400@ttmf.org
SUMMARY:Tee Up FORE Preemies Golf Event
DESCRIPTION:  \n \nTee up with Tiny Miracles and help make critical programs available to families with premature babies in area hospitals by participating in our 5th annual Golf Event.    \nMonday\, October 2 \nAspetuck Valley Country Club \nWeston\, CT \n  \nOuting includes: \nLunch served on the patio featuring grilled favorites hamburgers and hot dogs. \nA Cocktail Reception following Golf with heavy hors d’œuvres \nPrizes for Straightest Line (3rd Hole) & Closest to the Pin (5th Hole) \n  \nSPONSOR or REGISTER NOW \n  \n11:00 Check In and Lunch \n12:00 Shotgun Start / Scramble \n5:00 Reception
URL:https://ttmf.org/event/golf-outing-2023/
LOCATION:Aspetuck Valley Country Club\, 67 Old Redding Rd.\, Weston\, CT\, 06883
CATEGORIES:Featured Event,Upcoming Event
ATTACH;FMTTYPE=image/jpeg:https://ttmf.org/wp-content/uploads/2023/07/Golf-Website-graphic.jpg
ORGANIZER;CN="Tiny Miracles Foundation":MAILTO:info@ttmf.org
GEO:41.2288519;-73.3351647
X-APPLE-STRUCTURED-LOCATION;VALUE=URI;X-ADDRESS=Aspetuck Valley Country Club 67 Old Redding Rd. Weston CT 06883;X-APPLE-RADIUS=500;X-TITLE=67 Old Redding Rd.:geo:-73.3351647,41.2288519
END:VEVENT
BEGIN:VEVENT
DTSTART;TZID=America/New_York:20230507T110000
DTEND;TZID=America/New_York:20230507T110000
DTSTAMP:20260425T181424
CREATED:20230316T165922Z
LAST-MODIFIED:20230507T124136Z
UID:10002383-1683457200-1683457200@ttmf.org
SUMMARY:Family Fun Day & NICU Reunion
DESCRIPTION:Cranbury Park \nSunday\, May 7\, 2023 \n11 am to 2 pm \n  \nWE HAVE REACHED CAPACITY FOR THIS EVENT.  WE HOPE TO SEE YOU NEXT  TIME. \n  \nJoin The Tiny Miracles Foundation for their annual Family Fun Day.  Reunite with mentors and TTMF staff\, meet other families of premature babies\, and enjoy a day of entertainment and family fun.  \nEvent is FREE. Lunch is limited to 2 parents or caregivers along with your preemie child and siblings.  \nBring a NICU photo of your preemie as your ticket to the event.
URL:https://ttmf.org/event/family-fun-day-2023/
LOCATION:Cranbury Park Pavilion\, 300 Grumman Ave\, Norwalk\, CT\, 06851
CATEGORIES:Featured Event,Upcoming Event
ATTACH;FMTTYPE=image/png:https://ttmf.org/wp-content/uploads/2023/03/Family-Fun-Day-2023.png
ORGANIZER;CN="Tiny Miracles Foundation":MAILTO:info@ttmf.org
GEO:41.163833;-73.404951
X-APPLE-STRUCTURED-LOCATION;VALUE=URI;X-ADDRESS=Cranbury Park Pavilion 300 Grumman Ave Norwalk CT 06851;X-APPLE-RADIUS=500;X-TITLE=300 Grumman Ave:geo:-73.404951,41.163833
END:VEVENT
BEGIN:VEVENT
DTSTART;TZID=America/New_York:20230429T183000
DTEND;TZID=America/New_York:20230429T183000
DTSTAMP:20260425T181424
CREATED:20230308T192237Z
LAST-MODIFIED:20230308T203730Z
UID:10002381-1682793000-1682793000@ttmf.org
SUMMARY:The Tiny Miracles Foundation Gala
DESCRIPTION:Visit http://e.givesmart.com/events/vPI for our event page.
URL:https://ttmf.org/event/gala-2023/
CATEGORIES:Featured Event,Upcoming Event
ATTACH;FMTTYPE=image/jpeg:https://ttmf.org/wp-content/uploads/2023/03/TM_Social-01-scaled.jpg
ORGANIZER;CN="Tiny Miracles Foundation":MAILTO:info@ttmf.org
END:VEVENT
BEGIN:VEVENT
DTSTART;TZID=America/New_York:20221117T090000
DTEND;TZID=America/New_York:20221117T090000
DTSTAMP:20260425T181424
CREATED:20221101T211636Z
LAST-MODIFIED:20221116T000350Z
UID:10002361-1668675600-1668675600@ttmf.org
SUMMARY:SHOP DINE & PLAY for Prematurity Awareness
DESCRIPTION:Contributing 30% of online sales \nNovember 1- 24 \nmaplecraftfoods.com/TTMF \n  \n \n1838 Black Rock Turnpike in Fairfield \nContributing 10% of sales of select products and round up donations \nNovember 4 – 18 \nwww.turnpikespiritshop.com/ \n  \n \nJoin Tiny Miracles at 2 special games \nNovember 12 and 26 \nSpecial raffle \nhttps://go.rallyup.com/tinymiracles/Campaign/ \nBuy your tickets now at www.danburyhattricks.com/ \n  \n \n980 Post Road in Darien \n11 South Ave in New Canaan \nContributing proceeds from purple bagel sales \nNovember 14 – 20 \n  \n \nAll 5 locations  \n(Fairfield\, Wilton\, Greenwich\, Stratford\, Old Saybrook) \nContributing 15% of sales with mention of Tiny Miracles \nNovember 17 \nDine in or Take out (Take out Code: Miracles) \nwww.littlepub.com \n  \n \n6 Corbin Drive in Darien \nContributing 20% of board book purchases \nNovember 17 \nWWW.FACEBOOK.COM/BARRETTBOOKSTORE \n  \n \n180 Post Road East in Westport \nContributing 10% of all proceeds \nNovember 17 \nhttps://www.thetoypostct.com/ \n  \n \n1020 Post Road in Darien \nContributing 10% of all spa services and retail sales \nNovember 17 \nwww.williamsdayspa.com/ \n  \n \n1 Morse Court in New Canaan \nContributing 10% of sales \nNovember 17 \nwww.craftbottlz.com \n  \n \n1060 Post Road in Darien \nContributing 15% of sales \nNovember 17 \nwww.eggnewyork.com \n  \n \nContributing 15% of sales \nNovember 17 \nhttps://amytucci.com/ \n  \n \n382 Post Road East in Westport \nSip & Shop from 12 – 5 PM \nContributing 15% of sales \nNovember 26 \nhttps://www.jmclaughlin.com/ \n  \n \n877 Post Road East in Westport \nSpecial 4:00 PM class for Tiny Miracles \nNovember 29 \nhttps://www.kaiayoga.com/westport \n  \nTHANK YOU \n \n1860 Post Road East in Westport \nContributing 20% of sales with flyer from 4 – 8PM \nNovember 7 \n 
URL:https://ttmf.org/event/shop-dine-play-for-prematurity-awareness/
CATEGORIES:Featured Event,Upcoming Event
ATTACH;FMTTYPE=image/png:https://ttmf.org/wp-content/uploads/2022/11/Email-Header-Prematurity-Awareness-Day-Partners.png
ORGANIZER;CN="Tiny Miracles Foundation":MAILTO:info@ttmf.org
END:VEVENT
BEGIN:VEVENT
DTSTART;TZID=America/New_York:20221003T110000
DTEND;TZID=America/New_York:20221003T110000
DTSTAMP:20260425T181424
CREATED:20220719T165257Z
LAST-MODIFIED:20220909T155910Z
UID:10002510-1664794800-1664794800@ttmf.org
SUMMARY:Tee Up FORE Preemies Golf Outing
DESCRIPTION:Tee up with Tiny Miracles and help make critical programs available to families with premature babies in area hospitals by participating in our 4th annual Golf Event.    \nMonday\, October 3 \nAspetuck Valley Country Club \nWeston\, CT \n  \nOuting includes: \nLunch served on the patio featuring grilled favorites hamburgers and hot dogs. \nA Cocktail Reception following Golf with heavy hors d’œuvres \nPrizes for Straightest Line (3rd Hole) & Closest to the Pin (5th Hole) \n  \nSPONSOR or REGISTER NOW \n  \n11:00 Check In and Lunch \n12:00 Shotgun Start / Scramble \n5:00 Reception \n  \nThank You to our growing list of Sponsors: \nCarmody Torrance Sandak & Hennessey LLP ~ \nGrant Thorton LLP ~ Broder Orland Murray & DeMattie LLC ~ \nPediatric Healthcare Associates Dr. Richard Freedman ~ \nNoto Family ~ Michael and Leelee Klein ~  \nBrian Hetherington ~ Ed Borkowski
URL:https://ttmf.org/event/golf-outing-2022/
LOCATION:Aspetuck Valley Country Club\, 67 Old Redding Rd.\, Weston\, CT\, 06883
CATEGORIES:Featured Event,Upcoming Event
ATTACH;FMTTYPE=image/png:https://ttmf.org/wp-content/uploads/2022/07/Golf-ball-with-logo-2.png
ORGANIZER;CN="Tiny Miracles Foundation":MAILTO:info@ttmf.org
GEO:41.2288519;-73.3351647
X-APPLE-STRUCTURED-LOCATION;VALUE=URI;X-ADDRESS=Aspetuck Valley Country Club 67 Old Redding Rd. Weston CT 06883;X-APPLE-RADIUS=500;X-TITLE=67 Old Redding Rd.:geo:-73.3351647,41.2288519
END:VEVENT
BEGIN:VEVENT
DTSTART;TZID=America/New_York:20220918T110000
DTEND;TZID=America/New_York:20220918T140000
DTSTAMP:20260425T181425
CREATED:20220713T155025Z
LAST-MODIFIED:20220721T153010Z
UID:10002509-1663498800-1663509600@ttmf.org
SUMMARY:Family Fun Day & NICU Reunion
DESCRIPTION:Stamford Museum & Nature Center \nSunday\, September 18\, 2022 \n11 am to 2 pm \n \nJoin The Tiny Miracles Foundation for their annual Family Fun Day.  Reunite with mentors and TTMF staff\, meet other families of premature babies\, and enjoy a day of family fun.  \nEvent is FREE and limited to 2 parents or caregivers along with your preemie child and siblings. The day will include lunch for your immediate family\, children’s entertainment\, and access to the Nature Center and farm.   \nBring a NICU photo of your preemie as your ticket to the event. \n  \nRSVP Below with “1” to represent your family as attending. Then\, fill in the number for members of your family we should expect to be there.
URL:https://ttmf.org/event/family-fun-day-2022/
CATEGORIES:Featured Event,Upcoming Event
ATTACH;FMTTYPE=image/png:https://ttmf.org/wp-content/uploads/2022/07/Family-Fun-Day-Graphic-2022.png
ORGANIZER;CN="Tiny Miracles Foundation":MAILTO:info@ttmf.org
END:VEVENT
BEGIN:VEVENT
DTSTART;TZID=America/New_York:20210621T110000
DTEND;TZID=America/New_York:20210621T200000
DTSTAMP:20260425T181425
CREATED:20200114T161541Z
LAST-MODIFIED:20210603T164401Z
UID:10002282-1624273200-1624305600@ttmf.org
SUMMARY:Tee Up FORE Preemies Golf Outing
DESCRIPTION:We are pleased to announce that the The Tiny Miracles Foundation’s annual golf and tennis outings\, Tee Up FORE Preemies and Grand Slam for Preemies will be held at Aspetuck Valley Country Club in Weston\, CT on Monday\, June 21\, 2021.  Plans are underway\, but we need your help. \n  \nThere are many different opportunities to support The Tiny Miracles Foundation and your consideration of supporting the golf or tennis event is truly appreciated.  Enclosed please find sponsorship forms for each event.  Your sponsorship\, participation or gift will directly help maintain\, expand and enrich TTMF’s programs and services for premature babies and bring invaluable hope and support to their families during challenging times.  However you elect to participate\, please be assured that the direct beneficiaries of your generosity will always be the preemies and families whom we have the privilege to serve. \n \nTEE UP FORE PREEMIES – SPONSORSHIP LEVELS: \nMASTERS SPONSOR $5\,000                  \nThis title sponsorship includes tournament spots\, lunch & dinner for 8 players; TTMF website & Golf Event page with link to your company website; recognition in pre & post event PR\, social media & dinner with emcee remarks; company name on table top display\, signage & dinner entry sign; and signage on course at 1st and 18th hole. \nUS OPEN SPONSOR $3\,000                    \nThis sponsorship includes tournament spots\, lunch & dinner for 4 players; corporate logo on Golf Event page with link to your company website; recognition in pre & post event PR\, social media & dinner with emcee remarks; company name on table top display\, signage & lunch entry sign; and signage on course at 18th hole. \nBRITISH OPEN SPONSOR $2\,000         \nThis sponsorship includes tournament spots\, lunch & dinner for 2 players; corporate logo on Golf Event page; recognition in pre & post event PR\, social media & dinner with emcee remarks; company name on table top display & signage; and signage on course at 18th hole. \nPGA SPONSOR $1\,000                             \nThis sponsorship includes tournament spot\, lunch & dinner for 1 player; corporate logo on Golf Event page; recognition in pre & post event PR\, social media & dinner with emcee remarks; company name on table top display & signage; and signage on course at 9th hole. \nTEE SPONSOR $250                               \nThis sponsorship includes recognition in pre & post event PR\, social media\, and signage on course with company name. \nCONTEST SPONSOR $250                     \nContest sponsorship includes recognition in pre & post event PR\, social media\, and at dinner when contest winners are announced. (Women & Men’s Closest to the Pin; Women & Men’s Closest to the Line; Winning Foursome) \n  \nTournament Spots include: Beer & Wine at Lunch; Beer on course; Open Bar at Dinner \n  \nGOLF PARTICIPATION:     \nFOURSOME $1\,400    \nSINGLE $350     \nDINNER ONLY $100 (With Open Bar) \n  \n  \n** CLICK HERE TO REGISTER NOW ** \n  \nThank you to our growing list of Sponsors:
URL:https://ttmf.org/event/golf-outing-2021/
LOCATION:Aspetuck Valley Country Club\, 67 Old Redding Rd.\, Weston\, CT\, 06883
CATEGORIES:Featured Event,Upcoming Event
ATTACH;FMTTYPE=image/png:https://ttmf.org/wp-content/uploads/2020/01/GolfInviteNEW.png
ORGANIZER;CN="Tiny Miracles Foundation":MAILTO:info@ttmf.org
GEO:41.2288519;-73.3351647
X-APPLE-STRUCTURED-LOCATION;VALUE=URI;X-ADDRESS=Aspetuck Valley Country Club 67 Old Redding Rd. Weston CT 06883;X-APPLE-RADIUS=500;X-TITLE=67 Old Redding Rd.:geo:-73.3351647,41.2288519
END:VEVENT
BEGIN:VEVENT
DTSTART;TZID=America/New_York:20200912T173000
DTEND;TZID=America/New_York:20200912T210000
DTSTAMP:20260425T181425
CREATED:20190731T150532Z
LAST-MODIFIED:20200912T161240Z
UID:10002259-1599931800-1599944400@ttmf.org
SUMMARY:TTMF Family Fun Day & Drive In Movie
DESCRIPTION:UPDATED  \nFAMILY FUN DAY and DRIVE IN MOVIE \nat the \nSTAMFORD MUSEUM & NATURE CENTER \n \nSaturday\, September 12\, 2020 \n5:30 to 9:00 PM \nJoin us for our updated 2020 Family Fun Day and Drive In Movie at the Stamford Museum and Nature Center featuring Charlotte’s Web. \nThis is a FREE event for preemies and their immediate families. Space is limited to one vehicle for the first 50 families to RSVP using this Event Page. \n\n\n\n \nEvent Detail Questions and Answers:\n \nHow do we RSVP to come?  Scroll below to RSVP-its FREE!\nAttendance is limited to the first 50 RSVPs. If tickets are sold out\, you may email info@ttmf.org to be placed on our waiting list.  Waiting list respondents will be contacted if space opens up due to individual cancellations.\n\n\n\n \n\n\n\nWho can attend?  Preemie children and their immediate families (limit one car per family only)\n\n\n\n \n\n\n\nWhere do we park our cars?  Farmhouse lot at 151 Scofieldtown Road\, Stamford \n  \nWhere do we get the tickets?  Your entry ticket is a photo of your preemie IN THE NICU. Bring your miracle’s photo! Our strolling photographer will take your AFTER THE NICU picture.\n  \nHow is this COVID safe?  See this link for COVID protocols at SMNC:  Visiting and Safety Guidelines. \n  \nWill we have food options?  FREE ice cream truck\, movie snacks and waters! We encourage you to pack a simple family picnic to bring along for dinner. \n  \nWhere can we picnic?  Each car will have 2 parking spaces. Bring your lawn chairs and a picnic dinner for the 2nd space to tailgate! \n  \n\n\n\n\n\n\nCan we go into the farm museum?  You can stroll through the farm with your family before the movie beginning at 5:30.  The Bendel Mansion Museum will be closed. Heckscher Farm\, which is adjacent to the Farmhouse parking lot\, will be open for visiting farm animals and strolling. (Masks are required when on property for everyone age 4 and older when 6′ social distancing is not possible.) \n  \nHow do we see and hear the movie?  You may either sit in your car or on lawn chairs in the second space of your parking spot.  The movie sound will be sent to a radio station that you can listen to through your car radio. \n  \nWhat time will the movie begin?  The movie will be played at dusk with expectation being roughly 7pm. \n\n\n\n\n\n\n \nBonus: A free Miracle T-Shirt at check-in for all preemies when they arrive!\n 
URL:https://ttmf.org/event/family-fun-day/
LOCATION:Stamford Museum and Nature Center\, 151 Scofieldtown Road\, Stamford\, CT
CATEGORIES:Featured Event,Upcoming Event
ATTACH;FMTTYPE=image/png:https://ttmf.org/wp-content/uploads/2019/07/Drive-In-Movie.png
ORGANIZER;CN="Tiny Miracles Foundation":MAILTO:info@ttmf.org
GEO:41.1245693;-73.5474666
X-APPLE-STRUCTURED-LOCATION;VALUE=URI;X-ADDRESS=Stamford Museum and Nature Center 151 Scofieldtown Road Stamford CT;X-APPLE-RADIUS=500;X-TITLE=151 Scofieldtown Road:geo:-73.5474666,41.1245693
END:VEVENT
BEGIN:VEVENT
DTSTART;TZID=America/New_York:20191102T183000
DTEND;TZID=America/New_York:20191102T230000
DTSTAMP:20260425T181425
CREATED:20190711T160214Z
LAST-MODIFIED:20190731T134408Z
UID:10002257-1572719400-1572735600@ttmf.org
SUMMARY:Miracles in Monte Carlo
DESCRIPTION: 
URL:https://ttmf.org/event/miracles-in-monte-carlo/
LOCATION:Wee Burn Country Club\, 410 Hollow Tree Ridge Rd\, Darien\, CT\, 06820
CATEGORIES:Featured Event,Upcoming Event
ATTACH;FMTTYPE=image/png:https://ttmf.org/wp-content/uploads/2019/07/TTMF_2019_SVTHDT_FINAL7.8.png
ORGANIZER;CN="Tiny Miracles Foundation":MAILTO:info@ttmf.org
GEO:41.0878698;-73.4981343
X-APPLE-STRUCTURED-LOCATION;VALUE=URI;X-ADDRESS=Wee Burn Country Club 410 Hollow Tree Ridge Rd Darien CT 06820;X-APPLE-RADIUS=500;X-TITLE=410 Hollow Tree Ridge Rd:geo:-73.4981343,41.0878698
END:VEVENT
END:VCALENDAR